BEGIN:VCALENDAR
VERSION:2.0
PRODID:-//NEW HOPE BAPTIST CHURCH - ECPv6.15.18//NONSGML v1.0//EN
CALSCALE:GREGORIAN
METHOD:PUBLISH
X-WR-CALNAME:NEW HOPE BAPTIST CHURCH
X-ORIGINAL-URL:https://newhopechurchwayne.com
X-WR-CALDESC:Events for NEW HOPE BAPTIST CHURCH
REFRESH-INTERVAL;VALUE=DURATION:PT1H
X-Robots-Tag:noindex
X-PUBLISHED-TTL:PT1H
BEGIN:VTIMEZONE
TZID:America/Detroit
BEGIN:DAYLIGHT
TZOFFSETFROM:-0500
TZOFFSETTO:-0400
TZNAME:EDT
DTSTART:20250309T070000
END:DAYLIGHT
BEGIN:STANDARD
TZOFFSETFROM:-0400
TZOFFSETTO:-0500
TZNAME:EST
DTSTART:20251102T060000
END:STANDARD
BEGIN:DAYLIGHT
TZOFFSETFROM:-0500
TZOFFSETTO:-0400
TZNAME:EDT
DTSTART:20260308T070000
END:DAYLIGHT
BEGIN:STANDARD
TZOFFSETFROM:-0400
TZOFFSETTO:-0500
TZNAME:EST
DTSTART:20261101T060000
END:STANDARD
BEGIN:DAYLIGHT
TZOFFSETFROM:-0500
TZOFFSETTO:-0400
TZNAME:EDT
DTSTART:20270314T070000
END:DAYLIGHT
BEGIN:STANDARD
TZOFFSETFROM:-0400
TZOFFSETTO:-0500
TZNAME:EST
DTSTART:20271107T060000
END:STANDARD
END:VTIMEZONE
BEGIN:VEVENT
DTSTART;TZID=America/Detroit:20260329T080000
DTEND;TZID=America/Detroit:20260329T083000
DTSTAMP:20260421T043320
CREATED:20260326T194831Z
LAST-MODIFIED:20260326T195013Z
UID:8558-1774771200-1774773000@newhopechurchwayne.com
SUMMARY:Read Through the Bible in a Year with Pastor Samuel 15-18
DESCRIPTION:
URL:https://newhopechurchwayne.com/event/read-through-the-bible-in-a-year-with-pastorsamuel-15-18/
END:VEVENT
BEGIN:VEVENT
DTSTART;TZID=America/Detroit:20260329T080000
DTEND;TZID=America/Detroit:20260329T103000
DTSTAMP:20260421T043320
CREATED:20260321T125233Z
LAST-MODIFIED:20260321T125235Z
UID:8516-1774771200-1774780200@newhopechurchwayne.com
SUMMARY:Sunday School Lesson for Sunday Waiting for God Peace Isaiah 2:2-4:Acts 17:26-28
DESCRIPTION:
URL:https://newhopechurchwayne.com/event/sunday-school-lesson-for-sunday-waiting-for-god-peace-isaiah-22-4acts-1726-28/
END:VEVENT
BEGIN:VEVENT
DTSTART;TZID=America/Detroit:20260329T080000
DTEND;TZID=America/Detroit:20260329T110000
DTSTAMP:20260421T043320
CREATED:20260308T001320Z
LAST-MODIFIED:20260308T001323Z
UID:8448-1774771200-1774782000@newhopechurchwayne.com
SUMMARY:Young Adult Ministry Emphasis om all Services
DESCRIPTION:
URL:https://newhopechurchwayne.com/event/young-adult-ministry-emphasis-om-all-services/
END:VEVENT
BEGIN:VEVENT
DTSTART;TZID=America/Detroit:20260329T080000
DTEND;TZID=America/Detroit:20260329T113000
DTSTAMP:20260421T043320
CREATED:20260327T235058Z
LAST-MODIFIED:20260327T235101Z
UID:8595-1774771200-1774783800@newhopechurchwayne.com
SUMMARY:Pastor Virgil Humes-Sermon Stop Sitting On What God Can Use Luke 19:34
DESCRIPTION:
URL:https://newhopechurchwayne.com/event/pastor-virgil-humes-sermon-stop-sitting-on-what-god-can-use-luke-1934/
END:VEVENT
BEGIN:VEVENT
DTSTART;TZID=America/Detroit:20260329T083000
DTEND;TZID=America/Detroit:20260329T143000
DTSTAMP:20260421T043320
CREATED:20260327T233829Z
LAST-MODIFIED:20260327T233831Z
UID:8585-1774773000-1774794600@newhopechurchwayne.com
SUMMARY:New Hope Church Neighborhood Wellness Center Free Health Services Room 118\, Wayne Campus
DESCRIPTION:
URL:https://newhopechurchwayne.com/event/new-hope-church-neighborhood-wellness-center-free-health-services-room-118-wayne-campus-9/
END:VEVENT
BEGIN:VEVENT
DTSTART;TZID=America/Detroit:20260329T103000
DTEND;TZID=America/Detroit:20260329T110000
DTSTAMP:20260421T043320
CREATED:20260223T195854Z
LAST-MODIFIED:20260223T195857Z
UID:8130-1774780200-1774782000@newhopechurchwayne.com
SUMMARY:Baptism Before Services
DESCRIPTION:
URL:https://newhopechurchwayne.com/event/baptism-before-services/
END:VEVENT
END:VCALENDAR