BEGIN:VCALENDAR
VERSION:2.0
PRODID:-//NEW HOPE BAPTIST CHURCH - ECPv6.15.18//NONSGML v1.0//EN
CALSCALE:GREGORIAN
METHOD:PUBLISH
X-WR-CALNAME:NEW HOPE BAPTIST CHURCH
X-ORIGINAL-URL:https://newhopechurchwayne.com
X-WR-CALDESC:Events for NEW HOPE BAPTIST CHURCH
REFRESH-INTERVAL;VALUE=DURATION:PT1H
X-Robots-Tag:noindex
X-PUBLISHED-TTL:PT1H
BEGIN:VTIMEZONE
TZID:America/Detroit
BEGIN:DAYLIGHT
TZOFFSETFROM:-0500
TZOFFSETTO:-0400
TZNAME:EDT
DTSTART:20250309T070000
END:DAYLIGHT
BEGIN:STANDARD
TZOFFSETFROM:-0400
TZOFFSETTO:-0500
TZNAME:EST
DTSTART:20251102T060000
END:STANDARD
BEGIN:DAYLIGHT
TZOFFSETFROM:-0500
TZOFFSETTO:-0400
TZNAME:EDT
DTSTART:20260308T070000
END:DAYLIGHT
BEGIN:STANDARD
TZOFFSETFROM:-0400
TZOFFSETTO:-0500
TZNAME:EST
DTSTART:20261101T060000
END:STANDARD
BEGIN:DAYLIGHT
TZOFFSETFROM:-0500
TZOFFSETTO:-0400
TZNAME:EDT
DTSTART:20270314T070000
END:DAYLIGHT
BEGIN:STANDARD
TZOFFSETFROM:-0400
TZOFFSETTO:-0500
TZNAME:EST
DTSTART:20271107T060000
END:STANDARD
END:VTIMEZONE
BEGIN:VEVENT
DTSTART;TZID=America/Detroit:20260204T110000
DTEND;TZID=America/Detroit:20260204T160000
DTSTAMP:20260420T013242
CREATED:20260130T211521Z
LAST-MODIFIED:20260130T211525Z
UID:7709-1770202800-1770220800@newhopechurchwayne.com
SUMMARY:New Hope Church Office Hours-Wayne Campus
DESCRIPTION:
URL:https://newhopechurchwayne.com/event/new-hope-church-office-hours-wayne-campus-39/
END:VEVENT
BEGIN:VEVENT
DTSTART;TZID=America/Detroit:20260204T183000
DTEND;TZID=America/Detroit:20260204T184500
DTSTAMP:20260420T013242
CREATED:20260127T001922Z
LAST-MODIFIED:20260127T001930Z
UID:7677-1770229800-1770230700@newhopechurchwayne.com
SUMMARY:New Hope Prayer Line Join us for prayer each Wednesday evening by calling 520-525-8990.
DESCRIPTION:
URL:https://newhopechurchwayne.com/event/new-hope-prayer-line-join-us-for-prayer-each-wednesday-evening-by-calling-520-525-8990/
END:VEVENT
BEGIN:VEVENT
DTSTART;TZID=America/Detroit:20260205T090000
DTEND;TZID=America/Detroit:20260205T160000
DTSTAMP:20260420T013242
CREATED:20260130T211633Z
LAST-MODIFIED:20260130T211635Z
UID:7711-1770282000-1770307200@newhopechurchwayne.com
SUMMARY:New Hope Church Office Hours-Wayne Campus
DESCRIPTION:
URL:https://newhopechurchwayne.com/event/new-hope-church-office-hours-wayne-campus-40/
END:VEVENT
BEGIN:VEVENT
DTSTART;TZID=America/Detroit:20260206T100000
DTEND;TZID=America/Detroit:20260206T180000
DTSTAMP:20260420T013242
CREATED:20260130T205622Z
LAST-MODIFIED:20260130T205626Z
UID:7695-1770372000-1770400800@newhopechurchwayne.com
SUMMARY:New Hope Church Neighborhood Wellness Center Wayne Campus
DESCRIPTION:
URL:https://newhopechurchwayne.com/event/new-hope-church-neighborhood-wellness-center-wayne-campus-2/
END:VEVENT
BEGIN:VEVENT
DTSTART;TZID=America/Detroit:20260207T100000
DTEND;TZID=America/Detroit:20260207T120000
DTSTAMP:20260420T013242
CREATED:20260108T192412Z
LAST-MODIFIED:20260108T193003Z
UID:7390-1770458400-1770465600@newhopechurchwayne.com
SUMMARY:Taylor Praise Team Rehearsal
DESCRIPTION:
URL:https://newhopechurchwayne.com/event/taylor-praise-team-rehearsal-2/
END:VEVENT
BEGIN:VEVENT
DTSTART;TZID=America/Detroit:20260208T080000
DTEND;TZID=America/Detroit:20260208T083000
DTSTAMP:20260420T013242
CREATED:20260207T162549Z
LAST-MODIFIED:20260207T162554Z
UID:7757-1770537600-1770539400@newhopechurchwayne.com
SUMMARY:Read Through the Bible in a Year with Pastor-Leviticus 21-24
DESCRIPTION:–
URL:https://newhopechurchwayne.com/event/read-through-the-bible-in-a-year-with-pastor-leviticus-21-24/
END:VEVENT
BEGIN:VEVENT
DTSTART;TZID=America/Detroit:20260208T080000
DTEND;TZID=America/Detroit:20260208T110000
DTSTAMP:20260420T013242
CREATED:20260126T221921Z
LAST-MODIFIED:20260126T221924Z
UID:7657-1770537600-1770548400@newhopechurchwayne.com
SUMMARY:New Members Orientation Classes
DESCRIPTION:Today during Sunday School hour at both campuses. Any member who has not attended New Members Orientation Classes are encouraged to attend. The class consist of four sessions: Session 2: Church Covenant/History
URL:https://newhopechurchwayne.com/event/new-members-orientation-classes-12/
END:VEVENT
BEGIN:VEVENT
DTSTART;TZID=America/Detroit:20260208T080000
DTEND;TZID=America/Detroit:20260208T110000
DTSTAMP:20260420T013242
CREATED:20260130T203110Z
LAST-MODIFIED:20260130T203114Z
UID:7685-1770537600-1770548400@newhopechurchwayne.com
SUMMARY:Wear Red Sunday (We Wear Red To) *Promote Sunday School Pride & Spirit *Celebrate Monthly Birthdays *Encourage Good Health (Especially Heart Health)
DESCRIPTION:is
URL:https://newhopechurchwayne.com/event/wear-red-sunday-we-wear-red-to-promote-sunday-school-pride-spirit-celebrate-monthly-birthdays-encourage-good-health-especially-heart-health/
END:VEVENT
BEGIN:VEVENT
DTSTART;TZID=America/Detroit:20260208T080000
DTEND;TZID=America/Detroit:20260208T110000
DTSTAMP:20260420T013242
CREATED:20260207T154933Z
LAST-MODIFIED:20260207T154937Z
UID:7739-1770537600-1770548400@newhopechurchwayne.com
SUMMARY:Sermon\, Pastor Virgil Humes\, “How to Win The Big Game Acts 1:8 (NLT)
DESCRIPTION:
URL:https://newhopechurchwayne.com/event/sermon-pastor-virgil-humes-how-to-win-the-big-game-acts-18-nlt/
END:VEVENT
BEGIN:VEVENT
DTSTART;TZID=America/Detroit:20260208T080000
DTEND;TZID=America/Detroit:20260208T110000
DTSTAMP:20260420T013242
CREATED:20260207T155136Z
LAST-MODIFIED:20260207T155139Z
UID:7742-1770537600-1770548400@newhopechurchwayne.com
SUMMARY:Happy Birthday to All February Births
DESCRIPTION:
URL:https://newhopechurchwayne.com/event/happy-birthday-to-all-february-births/
END:VEVENT
BEGIN:VEVENT
DTSTART;TZID=America/Detroit:20260208T081500
DTEND;TZID=America/Detroit:20260208T100000
DTSTAMP:20260420T013242
CREATED:20260130T224118Z
LAST-MODIFIED:20260130T224121Z
UID:7731-1770538500-1770544800@newhopechurchwayne.com
SUMMARY:SUNDAY SCHOOL LESSON BAPTISM AND THE LAST SUPPER (PG193).
DESCRIPTION:
URL:https://newhopechurchwayne.com/event/sunday-school-lesson-baptism-and-the-last-supper-pg193/
END:VEVENT
BEGIN:VEVENT
DTSTART;TZID=America/Detroit:20260208T083000
DTEND;TZID=America/Detroit:20260208T143000
DTSTAMP:20260420T013242
CREATED:20260207T171027Z
LAST-MODIFIED:20260207T171032Z
UID:7792-1770539400-1770561000@newhopechurchwayne.com
SUMMARY:New Hope Church Neighborhood Wellness Center
DESCRIPTION:
URL:https://newhopechurchwayne.com/event/new-hope-church-neighborhood-wellness-center-50/
END:VEVENT
BEGIN:VEVENT
DTSTART;TZID=America/Detroit:20260208T093000
DTEND;TZID=America/Detroit:20260208T110000
DTSTAMP:20260420T013242
CREATED:20260126T215830Z
LAST-MODIFIED:20260126T215833Z
UID:7651-1770543000-1770548400@newhopechurchwayne.com
SUMMARY:News Alert: Couples Ministry Puppet Presentation
DESCRIPTION:During the 9:30 and 11:00 a.m. worship services. For more information see Ola Pugh..
URL:https://newhopechurchwayne.com/event/news-alert-couples-ministry-puppet-presentation/
END:VEVENT
BEGIN:VEVENT
DTSTART;TZID=America/Detroit:20260209T080000
DTEND;TZID=America/Detroit:20260209T083000
DTSTAMP:20260420T013242
CREATED:20260207T162827Z
LAST-MODIFIED:20260207T162830Z
UID:7760-1770624000-1770625800@newhopechurchwayne.com
SUMMARY:Read Through the Bible in a Year with Pastor-Leviticus 25
DESCRIPTION:–
URL:https://newhopechurchwayne.com/event/read-through-the-bible-in-a-year-with-pastor-leviticus-25/
END:VEVENT
BEGIN:VEVENT
DTSTART;TZID=America/Detroit:20260209T080000
DTEND;TZID=America/Detroit:20260209T170000
DTSTAMP:20260420T013242
CREATED:20260207T160715Z
LAST-MODIFIED:20260207T160718Z
UID:7744-1770624000-1770656400@newhopechurchwayne.com
SUMMARY:Colored Eggs and Candy Donations Needed Candy donations can be brought too the church office Monday -Thursday from 9:00a.m.- 4:00 p.m Boiled\, dyed eggs can brought on Friday\, April 3rd from 11:00 a.m.-4:00 p.m.\, or Saturday\, April 4th after 9:00 a.m
DESCRIPTION:.
URL:https://newhopechurchwayne.com/event/colored-eggs-and-candy-donations-needed-candy-donations-can-be-brought-too-the-church-office-monday-thursday-from-900a-m-400-p-m-boiled-dyed-eggs-can-brought-on-friday-april-3rd-from-1100-a-m/
END:VEVENT
BEGIN:VEVENT
DTSTART;TZID=America/Detroit:20260209T090000
DTEND;TZID=America/Detroit:20260209T160000
DTSTAMP:20260420T013242
CREATED:20260126T233246Z
LAST-MODIFIED:20260126T233710Z
UID:7669-1770627600-1770652800@newhopechurchwayne.com
SUMMARY:Contribution Statement Request Forms Forms are available at the Welcome Center at both campuses.
DESCRIPTION:
URL:https://newhopechurchwayne.com/event/contribution-statement-request-forms-forms-are-available-at-the-welcome-center-at-both-campuses-3/
END:VEVENT
BEGIN:VEVENT
DTSTART;TZID=America/Detroit:20260209T090000
DTEND;TZID=America/Detroit:20260209T160000
DTSTAMP:20260420T013242
CREATED:20260207T165916Z
LAST-MODIFIED:20260207T165919Z
UID:7782-1770627600-1770652800@newhopechurchwayne.com
SUMMARY:New Hope Church Office Hours-Wayne Campus
DESCRIPTION:
URL:https://newhopechurchwayne.com/event/new-hope-church-office-hours-wayne-campus-43/
END:VEVENT
BEGIN:VEVENT
DTSTART;TZID=America/Detroit:20260209T180000
DTEND;TZID=America/Detroit:20260209T190000
DTSTAMP:20260420T013242
CREATED:20260130T210708Z
LAST-MODIFIED:20260130T210712Z
UID:7699-1770660000-1770663600@newhopechurchwayne.com
SUMMARY:Monday Night (Virtual) Bible Study Meeting ID: 886 6567 1151 Passcode: 247156 Or use church app under Bible Study tab.
DESCRIPTION:
URL:https://newhopechurchwayne.com/event/monday-night-virtual-bible-study-meeting-id-886-6567-1151-passcode-247156-or-use-church-app-under-bible-study-tab-2/
END:VEVENT
BEGIN:VEVENT
DTSTART;TZID=America/Detroit:20260210T080000
DTEND;TZID=America/Detroit:20260210T083000
DTSTAMP:20260420T013242
CREATED:20260207T162939Z
LAST-MODIFIED:20260207T162943Z
UID:7763-1770710400-1770712200@newhopechurchwayne.com
SUMMARY:Read Through the Bible in a Year with Pastor-Leviticus 25
DESCRIPTION:
URL:https://newhopechurchwayne.com/event/read-through-the-bible-in-a-year-with-pastor-leviticus-25-2/
END:VEVENT
BEGIN:VEVENT
DTSTART;TZID=America/Detroit:20260210T090000
DTEND;TZID=America/Detroit:20260210T160000
DTSTAMP:20260420T013242
CREATED:20260207T170016Z
LAST-MODIFIED:20260207T170020Z
UID:7784-1770714000-1770739200@newhopechurchwayne.com
SUMMARY:New Hope Church Office Hours-Wayne Campus
DESCRIPTION:
URL:https://newhopechurchwayne.com/event/new-hope-church-office-hours-wayne-campus-44/
END:VEVENT
BEGIN:VEVENT
DTSTART;TZID=America/Detroit:20260210T100000
DTEND;TZID=America/Detroit:20260210T183000
DTSTAMP:20260420T013242
CREATED:20260207T171140Z
LAST-MODIFIED:20260207T171142Z
UID:7794-1770717600-1770748200@newhopechurchwayne.com
SUMMARY:New Hope Church Neighborhood Wellness Center
DESCRIPTION:
URL:https://newhopechurchwayne.com/event/new-hope-church-neighborhood-wellness-center-51/
END:VEVENT
BEGIN:VEVENT
DTSTART;TZID=America/Detroit:20260211T060000
DTEND;TZID=America/Detroit:20260211T061500
DTSTAMP:20260420T013242
CREATED:20260127T002158Z
LAST-MODIFIED:20260127T002201Z
UID:7679-1770789600-1770790500@newhopechurchwayne.com
SUMMARY:New Hope Prayer Line Join us for prayer each Wednesday morning by calling 520-525-8990.
DESCRIPTION:
URL:https://newhopechurchwayne.com/event/new-hope-prayer-line-join-us-for-prayer-each-wednesday-morning-by-calling-520-525-8990-2/
END:VEVENT
BEGIN:VEVENT
DTSTART;TZID=America/Detroit:20260211T080000
DTEND;TZID=America/Detroit:20260211T083000
DTSTAMP:20260420T013242
CREATED:20260207T163220Z
LAST-MODIFIED:20260207T163224Z
UID:7767-1770796800-1770798600@newhopechurchwayne.com
SUMMARY:Read Through the Bible in a Year with Pastor-Numbers 1-4
DESCRIPTION:
URL:https://newhopechurchwayne.com/event/read-through-the-bible-in-a-year-with-pastor-numbers-1-4/
END:VEVENT
BEGIN:VEVENT
DTSTART;TZID=America/Detroit:20260211T110000
DTEND;TZID=America/Detroit:20260211T160000
DTSTAMP:20260420T013242
CREATED:20260207T170115Z
LAST-MODIFIED:20260207T170748Z
UID:7786-1770807600-1770825600@newhopechurchwayne.com
SUMMARY:New Hope Church Office Hours-Wayne Campus
DESCRIPTION:
URL:https://newhopechurchwayne.com/event/new-hope-church-office-hours-wayne-campus-45/
END:VEVENT
BEGIN:VEVENT
DTSTART;TZID=America/Detroit:20260211T183000
DTEND;TZID=America/Detroit:20260211T184500
DTSTAMP:20260420T013242
CREATED:20260207T161101Z
LAST-MODIFIED:20260207T161105Z
UID:7746-1770834600-1770835500@newhopechurchwayne.com
SUMMARY:New Hope Prayer Line Join us for prayer each Wednesday morning by calling 520-525-8990.
DESCRIPTION:
URL:https://newhopechurchwayne.com/event/new-hope-prayer-line-join-us-for-prayer-each-wednesday-morning-by-calling-520-525-8990-3/
END:VEVENT
BEGIN:VEVENT
DTSTART;TZID=America/Detroit:20260212T080000
DTEND;TZID=America/Detroit:20260212T083000
DTSTAMP:20260420T013242
CREATED:20260207T163451Z
LAST-MODIFIED:20260207T163454Z
UID:7770-1770883200-1770885000@newhopechurchwayne.com
SUMMARY:Read Through the Bible in a Year with Pastor-Numbers 5
DESCRIPTION:–
URL:https://newhopechurchwayne.com/event/read-through-the-bible-in-a-year-with-pastor-numbers-5/
END:VEVENT
BEGIN:VEVENT
DTSTART;TZID=America/Detroit:20260212T090000
DTEND;TZID=America/Detroit:20260212T160000
DTSTAMP:20260420T013242
CREATED:20260207T170206Z
LAST-MODIFIED:20260207T170534Z
UID:7788-1770886800-1770912000@newhopechurchwayne.com
SUMMARY:New Hope Church Office Hours-Wayne Campus
DESCRIPTION:
URL:https://newhopechurchwayne.com/event/new-hope-church-office-hours-wayne-campus-46/
END:VEVENT
BEGIN:VEVENT
DTSTART;TZID=America/Detroit:20260213T080000
DTEND;TZID=America/Detroit:20260213T083000
DTSTAMP:20260420T013242
CREATED:20260207T163824Z
LAST-MODIFIED:20260207T170309Z
UID:7772-1770969600-1770971400@newhopechurchwayne.com
SUMMARY:Read Through the Bible in a Year with Pastor- Numbers 9-12
DESCRIPTION:–
URL:https://newhopechurchwayne.com/event/read-through-the-bible-in-a-year-with-pastor-numbers-9/
END:VEVENT
BEGIN:VEVENT
DTSTART;TZID=America/Detroit:20260213T100000
DTEND;TZID=America/Detroit:20260213T183000
DTSTAMP:20260420T013242
CREATED:20260207T171306Z
LAST-MODIFIED:20260207T171310Z
UID:7796-1770976800-1771007400@newhopechurchwayne.com
SUMMARY:New Hope Church Neighborhood Wellness Center
DESCRIPTION:
URL:https://newhopechurchwayne.com/event/new-hope-church-neighborhood-wellness-center-52/
END:VEVENT
BEGIN:VEVENT
DTSTART;TZID=America/Detroit:20260214T080000
DTEND;TZID=America/Detroit:20260214T083000
DTSTAMP:20260420T013242
CREATED:20260207T164050Z
LAST-MODIFIED:20260207T164054Z
UID:7776-1771056000-1771057800@newhopechurchwayne.com
SUMMARY:Read Through the Bible in a Year with Pastor-Numbers 13-16
DESCRIPTION:–
URL:https://newhopechurchwayne.com/event/read-through-the-bible-in-a-year-with-pastor-numbers-13-16/
END:VEVENT
END:VCALENDAR