BEGIN:VCALENDAR
VERSION:2.0
PRODID:-//NEW HOPE BAPTIST CHURCH - ECPv6.15.18//NONSGML v1.0//EN
CALSCALE:GREGORIAN
METHOD:PUBLISH
X-ORIGINAL-URL:https://newhopechurchwayne.com
X-WR-CALDESC:Events for NEW HOPE BAPTIST CHURCH
REFRESH-INTERVAL;VALUE=DURATION:PT1H
X-Robots-Tag:noindex
X-PUBLISHED-TTL:PT1H
BEGIN:VTIMEZONE
TZID:America/Detroit
BEGIN:DAYLIGHT
TZOFFSETFROM:-0500
TZOFFSETTO:-0400
TZNAME:EDT
DTSTART:20250309T070000
END:DAYLIGHT
BEGIN:STANDARD
TZOFFSETFROM:-0400
TZOFFSETTO:-0500
TZNAME:EST
DTSTART:20251102T060000
END:STANDARD
BEGIN:DAYLIGHT
TZOFFSETFROM:-0500
TZOFFSETTO:-0400
TZNAME:EDT
DTSTART:20260308T070000
END:DAYLIGHT
BEGIN:STANDARD
TZOFFSETFROM:-0400
TZOFFSETTO:-0500
TZNAME:EST
DTSTART:20261101T060000
END:STANDARD
BEGIN:DAYLIGHT
TZOFFSETFROM:-0500
TZOFFSETTO:-0400
TZNAME:EDT
DTSTART:20270314T070000
END:DAYLIGHT
BEGIN:STANDARD
TZOFFSETFROM:-0400
TZOFFSETTO:-0500
TZNAME:EST
DTSTART:20271107T060000
END:STANDARD
END:VTIMEZONE
BEGIN:VEVENT
DTSTART;TZID=America/Detroit:20260214T080000
DTEND;TZID=America/Detroit:20260214T083000
DTSTAMP:20260420T045723
CREATED:20260213T164118Z
LAST-MODIFIED:20260213T164125Z
UID:7933-1771056000-1771057800@newhopechurchwayne.com
SUMMARY:Read Through the Bible in a Year with Pastor-Deuteronomy 1-4
DESCRIPTION:–
URL:https://newhopechurchwayne.com/event/read-through-the-bible-in-a-year-with-pastor-deuteronomy-1-4/
END:VEVENT
BEGIN:VEVENT
DTSTART;TZID=America/Detroit:20260214T093000
DTEND;TZID=America/Detroit:20260214T113000
DTSTAMP:20260420T045723
CREATED:20260115T213627Z
LAST-MODIFIED:20260207T164640Z
UID:7629-1771061400-1771068600@newhopechurchwayne.com
SUMMARY:Children & Young Adult Praise Dance Practice
DESCRIPTION:Children\, Adult\, and Young Adult dancers will meet Saturdays at 9:30 a.m.\, Wayne Campus. Contact .Min. Delores Johnson (734) 4696
URL:https://newhopechurchwayne.com/event/children-young-adult-praise-dance-practice-29/
END:VEVENT
BEGIN:VEVENT
DTSTART;TZID=America/Detroit:20260215T080000
DTEND;TZID=America/Detroit:20260215T083000
DTSTAMP:20260420T045723
CREATED:20260213T162435Z
LAST-MODIFIED:20260213T162443Z
UID:7920-1771142400-1771144200@newhopechurchwayne.com
SUMMARY:Read Through the Bible in a Year with Pastor-Numbers 17-22
DESCRIPTION:
URL:https://newhopechurchwayne.com/event/read-through-the-bible-in-a-year-with-pastor-numbers-17-22/
END:VEVENT
BEGIN:VEVENT
DTSTART;TZID=America/Detroit:20260215T080000
DTEND;TZID=America/Detroit:20260215T090000
DTSTAMP:20260420T045723
CREATED:20260213T153145Z
LAST-MODIFIED:20260214T164059Z
UID:7904-1771142400-1771146000@newhopechurchwayne.com
SUMMARY:Men's Ministry Trip to Charles H. Wright Museum departing from the Wayne Campus at 8:00 a.m. Saturday\, February 21st\,  Contact Carl Blassingame313-587-6154 for more information
DESCRIPTION:’
URL:https://newhopechurchwayne.com/event/mens-ministry-trip-to-charles-h-wright-museum-departing-from-the-wayne-campus-at-800-a-m-contact-carlblassingame313-587-6154-for-more-information/
END:VEVENT
BEGIN:VEVENT
DTSTART;TZID=America/Detroit:20260215T080000
DTEND;TZID=America/Detroit:20260215T093000
DTSTAMP:20260420T045723
CREATED:20260214T161911Z
LAST-MODIFIED:20260214T161915Z
UID:7951-1771142400-1771147800@newhopechurchwayne.com
SUMMARY:Sunday School Lesson for Sundays\, February 15 The Lords Day\, Exodus 20: 8-11; Romans 14:4 4-6 Revelation 1:10
DESCRIPTION:
URL:https://newhopechurchwayne.com/event/sunday-school-lesson-for-sundays-february-15-the-lords-day-exodus-20-8-11-romans-144-4-6-revelation-110/
END:VEVENT
BEGIN:VEVENT
DTSTART;TZID=America/Detroit:20260215T080000
DTEND;TZID=America/Detroit:20260215T110000
DTSTAMP:20260420T045723
CREATED:20260126T222234Z
LAST-MODIFIED:20260126T222237Z
UID:7659-1771142400-1771153200@newhopechurchwayne.com
SUMMARY:New Members Orientation Classes
DESCRIPTION:Today during Sunday School hour at both campuses. Any member who has not attended New Members Orientation Classes are encouraged to attend. Session 3: Organization/Tour
URL:https://newhopechurchwayne.com/event/new-members-orientation-classes-13/
END:VEVENT
BEGIN:VEVENT
DTSTART;TZID=America/Detroit:20260215T080000
DTEND;TZID=America/Detroit:20260215T110000
DTSTAMP:20260420T045723
CREATED:20260130T203747Z
LAST-MODIFIED:20260130T203752Z
UID:7687-1771142400-1771153200@newhopechurchwayne.com
SUMMARY:Senior Adult Ministry Black History Celebration \, the Senior Ministry will do a presentation on The History of Black-Eyed Peas\, and will give away free bags of peas with recipes for cooking and free samples at both campuses
DESCRIPTION:
URL:https://newhopechurchwayne.com/event/senior-adult-ministry-black-history-celebration-the-senior-ministry-will-do-a-presentation-on-the-history-of-black-eyed-peas-and-will-give-away-free-bags-of-peas-with-recipes-for-cooking-and-free-s/
END:VEVENT
BEGIN:VEVENT
DTSTART;TZID=America/Detroit:20260215T080000
DTEND;TZID=America/Detroit:20260215T110000
DTSTAMP:20260420T045723
CREATED:20260213T144759Z
LAST-MODIFIED:20260213T144808Z
UID:7900-1771142400-1771153200@newhopechurchwayne.com
SUMMARY:Pastor Virgil Humes Sermon How To Keep Yourself in Spiritual Shape Jude 20
DESCRIPTION:“
URL:https://newhopechurchwayne.com/event/pastor-virgil-humes-sermon-how-to-keep-yourself-in-spiritual-shape-jude-20/
END:VEVENT
BEGIN:VEVENT
DTSTART;TZID=America/Detroit:20260215T083000
DTEND;TZID=America/Detroit:20260215T143000
DTSTAMP:20260420T045723
CREATED:20260214T163744Z
LAST-MODIFIED:20260214T163749Z
UID:7963-1771144200-1771165800@newhopechurchwayne.com
SUMMARY:New Hope Church Neighborhood Wellness Center Free Health Services Room 118\, Wayne Campus
DESCRIPTION:–
URL:https://newhopechurchwayne.com/event/new-hope-church-neighborhood-wellness-center-free-health-services-room-118-wayne-campus/
END:VEVENT
BEGIN:VEVENT
DTSTART;TZID=America/Detroit:20260216T090000
DTEND;TZID=America/Detroit:20260216T160000
DTSTAMP:20260420T045723
CREATED:20260126T234017Z
LAST-MODIFIED:20260126T234058Z
UID:7671-1771232400-1771257600@newhopechurchwayne.com
SUMMARY:Contribution Statement Request Forms are available at the Welcome Center at both campuses.
DESCRIPTION:
URL:https://newhopechurchwayne.com/event/contribution-statement-request-forms-are-available-at-the-welcome-center-at-both-campuses/
END:VEVENT
BEGIN:VEVENT
DTSTART;TZID=America/Detroit:20260216T090000
DTEND;TZID=America/Detroit:20260216T160000
DTSTAMP:20260420T045723
CREATED:20260213T160628Z
LAST-MODIFIED:20260213T160633Z
UID:7912-1771232400-1771257600@newhopechurchwayne.com
SUMMARY:Colored Eggs and Candy Donations Needed Candy donations can be brought too the church office Monday -Thursday from 9:00a.m.- 4:00 p.m Boiled\, dyed eggs can brought on Friday\, April 3rd from 11:00 a.m.-4:00 p.m.\, or Saturday\, April 4th after 9:00 a.m
DESCRIPTION:
URL:https://newhopechurchwayne.com/event/colored-eggs-and-candy-donations-needed-candy-donations-can-be-brought-too-the-church-office-monday-thursday-from-900a-m-400-p-m-boiled-dyed-eggs-can-brought-on-friday-april-3rd-from-1100-a-m-2/
END:VEVENT
BEGIN:VEVENT
DTSTART;TZID=America/Detroit:20260216T090000
DTEND;TZID=America/Detroit:20260216T160000
DTSTAMP:20260420T045723
CREATED:20260214T163022Z
LAST-MODIFIED:20260214T163027Z
UID:7955-1771232400-1771257600@newhopechurchwayne.com
SUMMARY:New Hope Church Office Hours--Wayne Campus
DESCRIPTION:
URL:https://newhopechurchwayne.com/event/new-hope-church-office-hours-wayne-campus-47/
END:VEVENT
BEGIN:VEVENT
DTSTART;TZID=America/Detroit:20260216T180000
DTEND;TZID=America/Detroit:20260216T190000
DTSTAMP:20260420T045723
CREATED:20260130T210825Z
LAST-MODIFIED:20260130T210829Z
UID:7701-1771264800-1771268400@newhopechurchwayne.com
SUMMARY:Monday Night (Virtual) Bible Study Meeting ID: 886 6567 1151 Passcode: 247156 Or use church app under Bible Study tab.
DESCRIPTION:
URL:https://newhopechurchwayne.com/event/monday-night-virtual-bible-study-meeting-id-886-6567-1151-passcode-247156-or-use-church-app-under-bible-study-tab-3/
END:VEVENT
BEGIN:VEVENT
DTSTART;TZID=America/Detroit:20260217T080000
DTEND;TZID=America/Detroit:20260217T090000
DTSTAMP:20260420T045723
CREATED:20260213T162647Z
LAST-MODIFIED:20260213T162653Z
UID:7922-1771315200-1771318800@newhopechurchwayne.com
SUMMARY:Read Through the Bible in a Year with Pastor-Numbers 23-25
DESCRIPTION:
URL:https://newhopechurchwayne.com/event/read-through-the-bible-in-a-year-with-pastor-numbers-23-25/
END:VEVENT
BEGIN:VEVENT
DTSTART;TZID=America/Detroit:20260217T090000
DTEND;TZID=America/Detroit:20260217T160000
DTSTAMP:20260420T045723
CREATED:20260214T163131Z
LAST-MODIFIED:20260214T163135Z
UID:7957-1771318800-1771344000@newhopechurchwayne.com
SUMMARY:New Hope Church Office Hours--Wayne Campus
DESCRIPTION:
URL:https://newhopechurchwayne.com/event/new-hope-church-office-hours-wayne-campus-48/
END:VEVENT
BEGIN:VEVENT
DTSTART;TZID=America/Detroit:20260217T100000
DTEND;TZID=America/Detroit:20260217T183000
DTSTAMP:20260420T045723
CREATED:20260214T163856Z
LAST-MODIFIED:20260214T163858Z
UID:7965-1771322400-1771353000@newhopechurchwayne.com
SUMMARY:New Hope Church Neighborhood Wellness Center Free Health Services Room 118\, Wayne Campus
DESCRIPTION:
URL:https://newhopechurchwayne.com/event/new-hope-church-neighborhood-wellness-center-free-health-services-room-118-wayne-campus-2/
END:VEVENT
BEGIN:VEVENT
DTSTART;TZID=America/Detroit:20260218T063000
DTEND;TZID=America/Detroit:20260218T184500
DTSTAMP:20260420T045723
CREATED:20260207T161234Z
LAST-MODIFIED:20260207T161237Z
UID:7749-1771396200-1771440300@newhopechurchwayne.com
SUMMARY:New Hope Prayer Line Join us for prayer each Wednesday morning by calling 520-525-8990.
DESCRIPTION:
URL:https://newhopechurchwayne.com/event/new-hope-prayer-line-join-us-for-prayer-each-wednesday-morning-by-calling-520-525-8990-4/
END:VEVENT
BEGIN:VEVENT
DTSTART;TZID=America/Detroit:20260218T080000
DTEND;TZID=America/Detroit:20260218T083000
DTSTAMP:20260420T045723
CREATED:20260114T224305Z
LAST-MODIFIED:20260213T163357Z
UID:7581-1771401600-1771403400@newhopechurchwayne.com
SUMMARY:Read Through the Bible in a Year with Pastor-Numbers 26-30
DESCRIPTION:
URL:https://newhopechurchwayne.com/event/annual-music-day/
END:VEVENT
BEGIN:VEVENT
DTSTART;TZID=America/Detroit:20260218T110000
DTEND;TZID=America/Detroit:20260218T160000
DTSTAMP:20260420T045723
CREATED:20260214T163243Z
LAST-MODIFIED:20260214T163249Z
UID:7959-1771412400-1771430400@newhopechurchwayne.com
SUMMARY:New Hope Church Office Hours--Wayne Campus
DESCRIPTION:
URL:https://newhopechurchwayne.com/event/new-hope-church-office-hours-wayne-campus-49/
END:VEVENT
BEGIN:VEVENT
DTSTART;TZID=America/Detroit:20260218T183000
DTEND;TZID=America/Detroit:20260218T184500
DTSTAMP:20260420T045723
CREATED:20260127T002650Z
LAST-MODIFIED:20260127T002657Z
UID:7681-1771439400-1771440300@newhopechurchwayne.com
SUMMARY:New Hope Prayer Line Join us for prayer each Wednesday evening by calling 520-525-8990.
DESCRIPTION:
URL:https://newhopechurchwayne.com/event/new-hope-prayer-line-join-us-for-prayer-each-wednesday-evening-by-calling-520-525-8990-2/
END:VEVENT
BEGIN:VEVENT
DTSTART;TZID=America/Detroit:20260219T080000
DTEND;TZID=America/Detroit:20260219T083000
DTSTAMP:20260420T045723
CREATED:20260213T163633Z
LAST-MODIFIED:20260213T163644Z
UID:7929-1771488000-1771489800@newhopechurchwayne.com
SUMMARY:Read Through the Bible in a Year with Pastor-Numbers 31-33
DESCRIPTION:
URL:https://newhopechurchwayne.com/event/read-through-the-bible-in-a-year-with-pastor-numbers-31-33/
END:VEVENT
BEGIN:VEVENT
DTSTART;TZID=America/Detroit:20260219T090000
DTEND;TZID=America/Detroit:20260219T163000
DTSTAMP:20260420T045723
CREATED:20260214T163355Z
LAST-MODIFIED:20260214T163359Z
UID:7961-1771491600-1771518600@newhopechurchwayne.com
SUMMARY:New Hope Church Office Hours--Wayne Campus
DESCRIPTION:
URL:https://newhopechurchwayne.com/event/new-hope-church-office-hours-wayne-campus-50/
END:VEVENT
BEGIN:VEVENT
DTSTART;TZID=America/Detroit:20260219T183000
DTEND;TZID=America/Detroit:20260219T203000
DTSTAMP:20260420T045723
CREATED:20260214T152859Z
LAST-MODIFIED:20260214T152904Z
UID:7941-1771525800-1771533000@newhopechurchwayne.com
SUMMARY:New Hope Academy Choir Rehearsal Wayne Campus
DESCRIPTION:
URL:https://newhopechurchwayne.com/event/new-hope-academy-choir-rehearsal-wayne-campus/
END:VEVENT
BEGIN:VEVENT
DTSTART;TZID=America/Detroit:20260220T080000
DTEND;TZID=America/Detroit:20260220T083000
DTSTAMP:20260420T045723
CREATED:20260213T163912Z
LAST-MODIFIED:20260213T163918Z
UID:7931-1771574400-1771576200@newhopechurchwayne.com
SUMMARY:Read Through the Bible in a Year with Pastor-Numbers 34-36
DESCRIPTION:
URL:https://newhopechurchwayne.com/event/read-through-the-bible-in-a-year-with-pastor-numbers-34-36/
END:VEVENT
BEGIN:VEVENT
DTSTART;TZID=America/Detroit:20260220T100000
DTEND;TZID=America/Detroit:20260220T183000
DTSTAMP:20260420T045723
CREATED:20260214T164007Z
LAST-MODIFIED:20260214T164015Z
UID:7967-1771581600-1771612200@newhopechurchwayne.com
SUMMARY:New Hope Church Neighborhood Wellness Center Free Health Services Room 118\, Wayne Campus
DESCRIPTION:
URL:https://newhopechurchwayne.com/event/new-hope-church-neighborhood-wellness-center-free-health-services-room-118-wayne-campus-3/
END:VEVENT
BEGIN:VEVENT
DTSTART;TZID=America/Detroit:20260221T080000
DTEND;TZID=America/Detroit:20260221T083000
DTSTAMP:20260420T045723
CREATED:20260214T152059Z
LAST-MODIFIED:20260214T152103Z
UID:7938-1771660800-1771662600@newhopechurchwayne.com
SUMMARY:Read Through the Bible in a Year with Pastor- Deuteronomy 1
DESCRIPTION:
URL:https://newhopechurchwayne.com/event/read-through-the-bible-in-a-year-with-pastor-deuteronomy-1/
END:VEVENT
BEGIN:VEVENT
DTSTART;TZID=America/Detroit:20260221T080000
DTEND;TZID=America/Detroit:20260221T170000
DTSTAMP:20260420T045723
CREATED:20260213T154039Z
LAST-MODIFIED:20260213T154045Z
UID:7906-1771660800-1771693200@newhopechurchwayne.com
SUMMARY:Trip to Charles H. Wright Museum departing from the Wayne Campus at 8:00 a.m
DESCRIPTION:
URL:https://newhopechurchwayne.com/event/trip-to-charles-h-wright-museum-departing-from-the-wayne-campus-at-800-a-m/
END:VEVENT
BEGIN:VEVENT
DTSTART;TZID=America/Detroit:20260221T090000
DTEND;TZID=America/Detroit:20260221T103000
DTSTAMP:20260420T045723
CREATED:20251127T221641Z
LAST-MODIFIED:20260207T165443Z
UID:7063-1771664400-1771669800@newhopechurchwayne.com
SUMMARY:Children & Young Adult Praise Dance Practice
DESCRIPTION:Children\, Adult\, and Young Adult dancers will meet Saturdays at 9:00 a.m.\, Wayne Campus. Contact Min. Delores Johnson (734) 469-0276
URL:https://newhopechurchwayne.com/event/children-young-adult-praise-dance-practice-24/
END:VEVENT
BEGIN:VEVENT
DTSTART;TZID=America/Detroit:20260222T080000
DTEND;TZID=America/Detroit:20260222T083000
DTSTAMP:20260420T045723
CREATED:20260218T233153Z
LAST-MODIFIED:20260218T233156Z
UID:8056-1771747200-1771749000@newhopechurchwayne.com
SUMMARY:Read Through the Bible in a Year with Pastor-Deuteronomy 5-8
DESCRIPTION:Deuteronomy 5
URL:https://newhopechurchwayne.com/event/read-through-the-bible-in-a-year-with-pastor-deuteronomy-5-8/
END:VEVENT
BEGIN:VEVENT
DTSTART;TZID=America/Detroit:20260222T080000
DTEND;TZID=America/Detroit:20260222T110000
DTSTAMP:20260420T045723
CREATED:20260109T142531Z
LAST-MODIFIED:20260126T221206Z
UID:7412-1771747200-1771758000@newhopechurchwayne.com
SUMMARY:Fraternities and Sororities Colors Day
DESCRIPTION:Theme:“ Written in Letters\, Rooted in History
URL:https://newhopechurchwayne.com/event/fraternities-and-sororities-colors-day/
END:VEVENT
END:VCALENDAR