BEGIN:VCALENDAR
VERSION:2.0
PRODID:-//NEW HOPE BAPTIST CHURCH - ECPv6.15.18//NONSGML v1.0//EN
CALSCALE:GREGORIAN
METHOD:PUBLISH
X-WR-CALNAME:NEW HOPE BAPTIST CHURCH
X-ORIGINAL-URL:https://newhopechurchwayne.com
X-WR-CALDESC:Events for NEW HOPE BAPTIST CHURCH
REFRESH-INTERVAL;VALUE=DURATION:PT1H
X-Robots-Tag:noindex
X-PUBLISHED-TTL:PT1H
BEGIN:VTIMEZONE
TZID:America/Detroit
BEGIN:DAYLIGHT
TZOFFSETFROM:-0500
TZOFFSETTO:-0400
TZNAME:EDT
DTSTART:20250309T070000
END:DAYLIGHT
BEGIN:STANDARD
TZOFFSETFROM:-0400
TZOFFSETTO:-0500
TZNAME:EST
DTSTART:20251102T060000
END:STANDARD
BEGIN:DAYLIGHT
TZOFFSETFROM:-0500
TZOFFSETTO:-0400
TZNAME:EDT
DTSTART:20260308T070000
END:DAYLIGHT
BEGIN:STANDARD
TZOFFSETFROM:-0400
TZOFFSETTO:-0500
TZNAME:EST
DTSTART:20261101T060000
END:STANDARD
BEGIN:DAYLIGHT
TZOFFSETFROM:-0500
TZOFFSETTO:-0400
TZNAME:EDT
DTSTART:20270314T070000
END:DAYLIGHT
BEGIN:STANDARD
TZOFFSETFROM:-0400
TZOFFSETTO:-0500
TZNAME:EST
DTSTART:20271107T060000
END:STANDARD
END:VTIMEZONE
BEGIN:VEVENT
DTSTART;TZID=America/Detroit:20260301T083000
DTEND;TZID=America/Detroit:20260301T103000
DTSTAMP:20260420T155305
CREATED:20260220T210624Z
LAST-MODIFIED:20260220T210627Z
UID:8094-1772353800-1772361000@newhopechurchwayne.com
SUMMARY:Sunday School Lesson for Sunday Loving God Loving Other "Mark 12;28-:34 James 2:14-17
DESCRIPTION:
URL:https://newhopechurchwayne.com/event/sunday-school-lesson-for-sunday-loving-god-loving-other-mark-1228-34-james-214-17/
END:VEVENT
BEGIN:VEVENT
DTSTART;TZID=America/Detroit:20260301T093000
DTEND;TZID=America/Detroit:20260301T103000
DTSTAMP:20260420T155305
CREATED:20260226T203804Z
LAST-MODIFIED:20260226T203807Z
UID:8176-1772357400-1772361000@newhopechurchwayne.com
SUMMARY:Sunday School (Bible Study) Classes-WAYNE
DESCRIPTION:
URL:https://newhopechurchwayne.com/event/sunday-school-bible-study-classes-wayne/
END:VEVENT
BEGIN:VEVENT
DTSTART;TZID=America/Detroit:20260301T110000
DTEND;TZID=America/Detroit:20260301T123000
DTSTAMP:20260420T155305
CREATED:20260114T224126Z
LAST-MODIFIED:20260114T224128Z
UID:7579-1772362800-1772368200@newhopechurchwayne.com
SUMMARY:Infant Dedication Wayne Campus
DESCRIPTION:
URL:https://newhopechurchwayne.com/event/infant-dedication-wayne-campus/
END:VEVENT
BEGIN:VEVENT
DTSTART;TZID=America/Detroit:20260302T080000
DTEND;TZID=America/Detroit:20260302T090000
DTSTAMP:20260420T155305
CREATED:20260301T225954Z
LAST-MODIFIED:20260301T225957Z
UID:8199-1772438400-1772442000@newhopechurchwayne.com
SUMMARY:Read Through the Bible with Pastor Joshua 6-7
DESCRIPTION:ead Through the Bible in a Year with Pastor
URL:https://newhopechurchwayne.com/event/read-through-the-bible-with-pastor-joshua-6-7/
END:VEVENT
BEGIN:VEVENT
DTSTART;TZID=America/Detroit:20260302T090000
DTEND;TZID=America/Detroit:20260302T160000
DTSTAMP:20260420T155305
CREATED:20260126T232842Z
LAST-MODIFIED:20260127T001202Z
UID:7665-1772442000-1772467200@newhopechurchwayne.com
SUMMARY:Contribution Statement Request Forms Forms are available at the Welcome Center at both campuses.
DESCRIPTION:
URL:https://newhopechurchwayne.com/event/contribution-statement-request-forms-forms-are-available-at-the-welcome-center-at-both-campuses/
END:VEVENT
BEGIN:VEVENT
DTSTART;TZID=America/Detroit:20260302T090000
DTEND;TZID=America/Detroit:20260302T160000
DTSTAMP:20260420T155305
CREATED:20260226T200005Z
LAST-MODIFIED:20260226T200011Z
UID:8154-1772442000-1772467200@newhopechurchwayne.com
SUMMARY:Colored Eggs and Candy Donations Needed Candy donations can be brought too the church office Monday -Thursday from 9:00a.m.- 4:00 p.m Boiled\, dyed eggs can brought on Friday\, April 3rd from 11:00 a.m.-4:00 p.m.\, or Saturday\, April 4th after 9:00 a.m
DESCRIPTION:
URL:https://newhopechurchwayne.com/event/colored-eggs-and-candy-donations-needed-candy-donations-can-be-brought-too-the-church-office-monday-thursday-from-900a-m-400-p-m-boiled-dyed-eggs-can-brought-on-friday-april-3rd-from-1100-a-m-5/
END:VEVENT
BEGIN:VEVENT
DTSTART;TZID=America/Detroit:20260302T090000
DTEND;TZID=America/Detroit:20260302T160000
DTSTAMP:20260420T155305
CREATED:20260301T232351Z
LAST-MODIFIED:20260301T232355Z
UID:8215-1772442000-1772467200@newhopechurchwayne.com
SUMMARY:New Hope Church Office Hours - Wayne Campus
DESCRIPTION:
URL:https://newhopechurchwayne.com/event/new-hope-church-office-hours-wayne-campus-55/
END:VEVENT
BEGIN:VEVENT
DTSTART;TZID=America/Detroit:20260302T180000
DTEND;TZID=America/Detroit:20260302T190000
DTSTAMP:20260420T155305
CREATED:20260213T161558Z
LAST-MODIFIED:20260213T161607Z
UID:7916-1772474400-1772478000@newhopechurchwayne.com
SUMMARY:Monday Night (Virtual) Bible Study Meeting ID: 886 6567 1151 Passcode: 247156 Or use church app under Bible Study tab.
DESCRIPTION:
URL:https://newhopechurchwayne.com/event/monday-night-virtual-bible-study-meeting-id-886-6567-1151-passcode-247156-or-use-church-app-under-bible-study-tab-5/
END:VEVENT
BEGIN:VEVENT
DTSTART;TZID=America/Detroit:20260303T080000
DTEND;TZID=America/Detroit:20260303T090000
DTSTAMP:20260420T155305
CREATED:20260301T230145Z
LAST-MODIFIED:20260301T230147Z
UID:8201-1772524800-1772528400@newhopechurchwayne.com
SUMMARY:Read Through the Bible with Pastor Joshua 8
DESCRIPTION:
URL:https://newhopechurchwayne.com/event/read-through-the-bible-with-pastor-joshua-8/
END:VEVENT
BEGIN:VEVENT
DTSTART;TZID=America/Detroit:20260303T090000
DTEND;TZID=America/Detroit:20260303T160000
DTSTAMP:20260420T155305
CREATED:20260301T232452Z
LAST-MODIFIED:20260301T233750Z
UID:8217-1772528400-1772553600@newhopechurchwayne.com
SUMMARY:New Hope Church Office Hours - Wayne Campus
DESCRIPTION:
URL:https://newhopechurchwayne.com/event/new-hope-church-office-hours-wayne-campus-56/
END:VEVENT
BEGIN:VEVENT
DTSTART;TZID=America/Detroit:20260303T100000
DTEND;TZID=America/Detroit:20260303T180000
DTSTAMP:20260420T155305
CREATED:20260301T233036Z
LAST-MODIFIED:20260301T233606Z
UID:8225-1772532000-1772560800@newhopechurchwayne.com
SUMMARY:New Hope Church Neighborhood Wellness Center
DESCRIPTION:
URL:https://newhopechurchwayne.com/event/new-hope-church-neighborhood-wellness-center-54/
END:VEVENT
BEGIN:VEVENT
DTSTART;TZID=America/Detroit:20260303T173000
DTEND;TZID=America/Detroit:20260303T180000
DTSTAMP:20260420T155305
CREATED:20260114T230431Z
LAST-MODIFIED:20260114T230506Z
UID:7594-1772559000-1772560800@newhopechurchwayne.com
SUMMARY:Dinner before  Discipleship Class
DESCRIPTION:
URL:https://newhopechurchwayne.com/event/dinner-before-discipleship-class/
END:VEVENT
BEGIN:VEVENT
DTSTART;TZID=America/Detroit:20260303T180000
DTEND;TZID=America/Detroit:20260303T193000
DTSTAMP:20260420T155305
CREATED:20260114T224932Z
LAST-MODIFIED:20260114T224934Z
UID:7583-1772560800-1772566200@newhopechurchwayne.com
SUMMARY:Discipleship Bible Study
DESCRIPTION:
URL:https://newhopechurchwayne.com/event/discipleship-bible-study/
END:VEVENT
BEGIN:VEVENT
DTSTART;TZID=America/Detroit:20260304T060000
DTEND;TZID=America/Detroit:20260304T061500
DTSTAMP:20260420T155305
CREATED:20260218T231934Z
LAST-MODIFIED:20260226T201609Z
UID:8049-1772604000-1772604900@newhopechurchwayne.com
SUMMARY:New Hope Prayer Line Join us for prayer each Wednesday morning by calling 520-525-8990
DESCRIPTION:
URL:https://newhopechurchwayne.com/event/new-hope-prayer-line-join-us-for-prayer-each-wednesday-morning-by-calling-520-525-8990-8/
END:VEVENT
BEGIN:VEVENT
DTSTART;TZID=America/Detroit:20260304T080000
DTEND;TZID=America/Detroit:20260304T090000
DTSTAMP:20260420T155305
CREATED:20260301T230354Z
LAST-MODIFIED:20260301T230356Z
UID:8203-1772611200-1772614800@newhopechurchwayne.com
SUMMARY:Read Through the Bible with Pastor Joshua 9-12
DESCRIPTION:
URL:https://newhopechurchwayne.com/event/read-through-the-bible-with-pastor-joshua-9-12/
END:VEVENT
BEGIN:VEVENT
DTSTART;TZID=America/Detroit:20260304T110000
DTEND;TZID=America/Detroit:20260304T160000
DTSTAMP:20260420T155305
CREATED:20260301T232549Z
LAST-MODIFIED:20260301T232554Z
UID:8219-1772622000-1772640000@newhopechurchwayne.com
SUMMARY:New Hope Church Office Hours - Wayne Campus
DESCRIPTION:
URL:https://newhopechurchwayne.com/event/new-hope-church-office-hours-wayne-campus-57/
END:VEVENT
BEGIN:VEVENT
DTSTART;TZID=America/Detroit:20260304T183000
DTEND;TZID=America/Detroit:20260304T184500
DTSTAMP:20260420T155305
CREATED:20260218T224109Z
LAST-MODIFIED:20260218T231657Z
UID:8046-1772649000-1772649900@newhopechurchwayne.com
SUMMARY:New Hope Prayer Line Join us for prayer each Wednesday morning by calling 520-525-8990.
DESCRIPTION:
URL:https://newhopechurchwayne.com/event/new-hope-prayer-line-join-us-for-prayer-each-wednesday-morning-by-calling-520-525-8990-7/
END:VEVENT
BEGIN:VEVENT
DTSTART;TZID=America/Detroit:20260305T000000
DTEND;TZID=America/Detroit:20260305T160000
DTSTAMP:20260420T155305
CREATED:20260301T232655Z
LAST-MODIFIED:20260301T232659Z
UID:8221-1772668800-1772726400@newhopechurchwayne.com
SUMMARY:New Hope Church Office Hours - Wayne Campus
DESCRIPTION:
URL:https://newhopechurchwayne.com/event/new-hope-church-office-hours-wayne-campus-58/
END:VEVENT
BEGIN:VEVENT
DTSTART;TZID=America/Detroit:20260305T080000
DTEND;TZID=America/Detroit:20260305T090000
DTSTAMP:20260420T155305
CREATED:20260301T230549Z
LAST-MODIFIED:20260301T230552Z
UID:8205-1772697600-1772701200@newhopechurchwayne.com
SUMMARY:Read Through the Bible with Pastor Joshua13-17 
DESCRIPTION:
URL:https://newhopechurchwayne.com/event/read-through-the-bible-with-pastor-joshua13-17/
END:VEVENT
BEGIN:VEVENT
DTSTART;TZID=America/Detroit:20260305T130000
DTEND;TZID=America/Detroit:20260305T150000
DTSTAMP:20260420T155305
CREATED:20260213T154522Z
LAST-MODIFIED:20260213T154532Z
UID:7908-1772715600-1772722800@newhopechurchwayne.com
SUMMARY:Hustle Dance Class Resumes Wayne Campus Fellowship Hall. $10 per session for instruction.
DESCRIPTION:
URL:https://newhopechurchwayne.com/event/hustle-dance-class-resumes-wayne-campus-fellowship-hall-10-per-session-for-instruction/
END:VEVENT
BEGIN:VEVENT
DTSTART;TZID=America/Detroit:20260305T183000
DTEND;TZID=America/Detroit:20260305T203000
DTSTAMP:20260420T155305
CREATED:20260220T205540Z
LAST-MODIFIED:20260220T205656Z
UID:8090-1772735400-1772742600@newhopechurchwayne.com
SUMMARY:New Hope Academy Choir Rehearsal Wayne Campus
DESCRIPTION:
URL:https://newhopechurchwayne.com/event/new-hope-academy-choir-rehearsal-wayne-campus-3/
END:VEVENT
BEGIN:VEVENT
DTSTART;TZID=America/Detroit:20260306T080000
DTEND;TZID=America/Detroit:20260306T090000
DTSTAMP:20260420T155305
CREATED:20260301T230733Z
LAST-MODIFIED:20260301T230736Z
UID:8207-1772784000-1772787600@newhopechurchwayne.com
SUMMARY:Read Through the Bible with Pastor Joshua18-21
DESCRIPTION:
URL:https://newhopechurchwayne.com/event/read-through-the-bible-with-pastor-joshua18-21/
END:VEVENT
BEGIN:VEVENT
DTSTART;TZID=America/Detroit:20260306T080000
DTEND;TZID=America/Detroit:20260306T170000
DTSTAMP:20260420T155305
CREATED:20260306T150716Z
LAST-MODIFIED:20260306T151918Z
UID:8265-1772784000-1772816400@newhopechurchwayne.com
SUMMARY:
DESCRIPTION:
URL:https://newhopechurchwayne.com/event/new-hope-prayer-line-join-us-for-prayer-each-600-a-m/
END:VEVENT
BEGIN:VEVENT
DTSTART;TZID=America/Detroit:20260306T100000
DTEND;TZID=America/Detroit:20260306T180000
DTSTAMP:20260420T155305
CREATED:20260301T232908Z
LAST-MODIFIED:20260301T233909Z
UID:8223-1772791200-1772820000@newhopechurchwayne.com
SUMMARY:New Hope Church Neighborhood Wellness Center
DESCRIPTION:
URL:https://newhopechurchwayne.com/event/new-hope-church-neighborhood-wellness-center-53/
END:VEVENT
BEGIN:VEVENT
DTSTART;TZID=America/Detroit:20260307T080000
DTEND;TZID=America/Detroit:20260307T090000
DTSTAMP:20260420T155305
CREATED:20260301T230857Z
LAST-MODIFIED:20260301T231646Z
UID:8209-1772870400-1772874000@newhopechurchwayne.com
SUMMARY:Read Through the Bible with Pastor Joshua 22-24
DESCRIPTION:
URL:https://newhopechurchwayne.com/event/read-through-the-bible-with-pastor-joshua-22-24/
END:VEVENT
BEGIN:VEVENT
DTSTART;TZID=America/Detroit:20260307T093000
DTEND;TZID=America/Detroit:20260307T103000
DTSTAMP:20260420T155305
CREATED:20260220T204912Z
LAST-MODIFIED:20260220T204914Z
UID:8085-1772875800-1772879400@newhopechurchwayne.com
SUMMARY:Children & Young Adult Praise Dance Practice Children\, Adult\, and Young Adult dancers will meet Saturdays Wayne Campus. Contact Min. Delores Johnson (734) 469-0276
DESCRIPTION:
URL:https://newhopechurchwayne.com/event/children-young-adult-praise-dance-practice-children-adult-and-young-adult-dancers-will-meet-saturdays-wayne-campus-contact-min-delores-johnson-734-469-0276/
END:VEVENT
BEGIN:VEVENT
DTSTART;TZID=America/Detroit:20260307T100000
DTEND;TZID=America/Detroit:20260307T120000
DTSTAMP:20260420T155305
CREATED:20260218T204710Z
LAST-MODIFIED:20260218T204713Z
UID:8032-1772877600-1772884800@newhopechurchwayne.com
SUMMARY:Leadership Meeting-Wayne Fellowship Hall
DESCRIPTION:
URL:https://newhopechurchwayne.com/event/leadership-meeting-wayne-fellowship-hall/
END:VEVENT
BEGIN:VEVENT
DTSTART;TZID=America/Detroit:20260308T080000
DTEND;TZID=America/Detroit:20260308T083000
DTSTAMP:20260420T155305
CREATED:20260306T152531Z
LAST-MODIFIED:20260306T181716Z
UID:8273-1772956800-1772958600@newhopechurchwayne.com
SUMMARY:Read Through the Bible in a Year with Pastor Sunday\, March 8 Judges 1-5
DESCRIPTION:
URL:https://newhopechurchwayne.com/event/read-through-the-bible-in-a-year-with-pastor-sunday-march-8-judges-1-5/
END:VEVENT
BEGIN:VEVENT
DTSTART;TZID=America/Detroit:20260308T080000
DTEND;TZID=America/Detroit:20260308T110000
DTSTAMP:20260420T155305
CREATED:20260305T194525Z
LAST-MODIFIED:20260305T194528Z
UID:8251-1772956800-1772967600@newhopechurchwayne.com
SUMMARY:Sermon-Pastor Virgil Humes-Learn to Wait #4 Jude 21
DESCRIPTION:
URL:https://newhopechurchwayne.com/event/sermon-pastor-virgil-humes-learn-to-wait-4-jude-21/
END:VEVENT
BEGIN:VEVENT
DTSTART;TZID=America/Detroit:20260308T083000
DTEND;TZID=America/Detroit:20260308T090000
DTSTAMP:20260420T155305
CREATED:20260218T203637Z
LAST-MODIFIED:20260226T190913Z
UID:8024-1772958600-1772960400@newhopechurchwayne.com
SUMMARY:New Members Orientation Classes Today During Sunday School Classes hour at both campus Session 2: Church Covenant/History
DESCRIPTION:
URL:https://newhopechurchwayne.com/event/new-members-orientation-classes-today-during-sunday-school-classes-hour-at-both-campus-session-1-salvation/
END:VEVENT
END:VCALENDAR