BEGIN:VCALENDAR
VERSION:2.0
PRODID:-//NEW HOPE BAPTIST CHURCH - ECPv6.15.18//NONSGML v1.0//EN
CALSCALE:GREGORIAN
METHOD:PUBLISH
X-ORIGINAL-URL:https://newhopechurchwayne.com
X-WR-CALDESC:Events for NEW HOPE BAPTIST CHURCH
REFRESH-INTERVAL;VALUE=DURATION:PT1H
X-Robots-Tag:noindex
X-PUBLISHED-TTL:PT1H
BEGIN:VTIMEZONE
TZID:America/Detroit
BEGIN:DAYLIGHT
TZOFFSETFROM:-0500
TZOFFSETTO:-0400
TZNAME:EDT
DTSTART:20250309T070000
END:DAYLIGHT
BEGIN:STANDARD
TZOFFSETFROM:-0400
TZOFFSETTO:-0500
TZNAME:EST
DTSTART:20251102T060000
END:STANDARD
BEGIN:DAYLIGHT
TZOFFSETFROM:-0500
TZOFFSETTO:-0400
TZNAME:EDT
DTSTART:20260308T070000
END:DAYLIGHT
BEGIN:STANDARD
TZOFFSETFROM:-0400
TZOFFSETTO:-0500
TZNAME:EST
DTSTART:20261101T060000
END:STANDARD
BEGIN:DAYLIGHT
TZOFFSETFROM:-0500
TZOFFSETTO:-0400
TZNAME:EDT
DTSTART:20270314T070000
END:DAYLIGHT
BEGIN:STANDARD
TZOFFSETFROM:-0400
TZOFFSETTO:-0500
TZNAME:EST
DTSTART:20271107T060000
END:STANDARD
END:VTIMEZONE
BEGIN:VEVENT
DTSTART;TZID=America/Detroit:20260312T090000
DTEND;TZID=America/Detroit:20260312T160000
DTSTAMP:20260420T225226
CREATED:20260306T193233Z
LAST-MODIFIED:20260306T193239Z
UID:8321-1773306000-1773331200@newhopechurchwayne.com
SUMMARY:New Hope Church Office Hours-Wayne Campus
DESCRIPTION:
URL:https://newhopechurchwayne.com/event/new-hope-church-office-hours-wayne-campus-61/
END:VEVENT
BEGIN:VEVENT
DTSTART;TZID=America/Detroit:20260312T130000
DTEND;TZID=America/Detroit:20260312T150000
DTSTAMP:20260420T225226
CREATED:20260218T205201Z
LAST-MODIFIED:20260218T205204Z
UID:8036-1773320400-1773327600@newhopechurchwayne.com
SUMMARY:Hustle Dance Class Resumes-Wayne Campus-$10 per session for instruction.
DESCRIPTION:
URL:https://newhopechurchwayne.com/event/hustle-dance-class-resumes-wayne-campus-10-per-session-for-instruction-2/
END:VEVENT
BEGIN:VEVENT
DTSTART;TZID=America/Detroit:20260312T183000
DTEND;TZID=America/Detroit:20260312T203000
DTSTAMP:20260420T225226
CREATED:20260220T205828Z
LAST-MODIFIED:20260220T205830Z
UID:8092-1773340200-1773347400@newhopechurchwayne.com
SUMMARY:New Hope Academy Choir Rehearsal Wayne Campus
DESCRIPTION:
URL:https://newhopechurchwayne.com/event/new-hope-academy-choir-rehearsal-wayne-campus-4/
END:VEVENT
BEGIN:VEVENT
DTSTART;TZID=America/Detroit:20260313T080000
DTEND;TZID=America/Detroit:20260313T083000
DTSTAMP:20260420T225226
CREATED:20260306T154021Z
LAST-MODIFIED:20260306T154058Z
UID:8284-1773388800-1773390600@newhopechurchwayne.com
SUMMARY:Read Through the Bible in a Year with Pastor Friday\, March 13th Judges 17-21
DESCRIPTION:
URL:https://newhopechurchwayne.com/event/read-through-the-bible-in-a-year-with-pastor-friday-march-13th-judges-17-21/
END:VEVENT
BEGIN:VEVENT
DTSTART;TZID=America/Detroit:20260313T100000
DTEND;TZID=America/Detroit:20260313T180000
DTSTAMP:20260420T225227
CREATED:20260306T191942Z
LAST-MODIFIED:20260306T191950Z
UID:8309-1773396000-1773424800@newhopechurchwayne.com
SUMMARY:New Hope Church Neighborhood Wellness Center
DESCRIPTION:
URL:https://newhopechurchwayne.com/event/new-hope-church-neighborhood-wellness-center-57/
END:VEVENT
BEGIN:VEVENT
DTSTART;TZID=America/Detroit:20260314T080000
DTEND;TZID=America/Detroit:20260314T083000
DTSTAMP:20260420T225227
CREATED:20260306T154301Z
LAST-MODIFIED:20260306T154306Z
UID:8286-1773475200-1773477000@newhopechurchwayne.com
SUMMARY:Read Through the Bible in a Year with Pastor Saturday\, March 14th Ruth 1-4
DESCRIPTION:
URL:https://newhopechurchwayne.com/event/read-through-the-bible-in-a-year-with-pastor-saturday-march-14th-ruth-1-4/
END:VEVENT
BEGIN:VEVENT
DTSTART;TZID=America/Detroit:20260314T093000
DTEND;TZID=America/Detroit:20260314T123000
DTSTAMP:20260420T225227
CREATED:20260219T000733Z
LAST-MODIFIED:20260219T000736Z
UID:8072-1773480600-1773491400@newhopechurchwayne.com
SUMMARY:Children & Young Adult Praise Dance Practice Children\, Adult\, and Young Adult dancers
DESCRIPTION:
URL:https://newhopechurchwayne.com/event/children-young-adult-praise-dance-practice-children-adult-and-young-adult-dancers/
END:VEVENT
BEGIN:VEVENT
DTSTART;TZID=America/Detroit:20260315T080000
DTEND;TZID=America/Detroit:20260315T093000
DTSTAMP:20260420T225227
CREATED:20260314T175522Z
LAST-MODIFIED:20260314T175531Z
UID:8477-1773561600-1773567000@newhopechurchwayne.com
SUMMARY:Read Through the Bible in a Year with Pastor Sunday\, March-15th  1 Samuel 1-3
DESCRIPTION:
URL:https://newhopechurchwayne.com/event/read-through-the-bible-in-a-year-with-pastor-sunday-march-15th-1-samuel-1-3/
END:VEVENT
BEGIN:VEVENT
DTSTART;TZID=America/Detroit:20260315T080000
DTEND;TZID=America/Detroit:20260315T110000
DTSTAMP:20260420T225227
CREATED:20260126T220822Z
LAST-MODIFIED:20260226T193313Z
UID:7653-1773561600-1773572400@newhopechurchwayne.com
SUMMARY:RESCHEDULED Annual Music Day/Worship during all three worship services.  For more information see Mr. Albert Marks or Rev. Daphne Green.
DESCRIPTION:
URL:https://newhopechurchwayne.com/event/annual-music-day-worship-during-all-three-worship-services-for-more-information-see-mr-albert-marks-or-rev-daphne-green/
END:VEVENT
BEGIN:VEVENT
DTSTART;TZID=America/Detroit:20260315T083000
DTEND;TZID=America/Detroit:20260315T100000
DTSTAMP:20260420T225227
CREATED:20260218T204131Z
LAST-MODIFIED:20260218T204133Z
UID:8028-1773563400-1773568800@newhopechurchwayne.com
SUMMARY:New Members Orientation Classes Today During Sunday School Classes hour at both campus Session 3: Organization/Tour
DESCRIPTION:
URL:https://newhopechurchwayne.com/event/new-members-orientation-classes-today-during-sunday-school-classes-hour-at-both-campus-session-3-organization-tour/
END:VEVENT
BEGIN:VEVENT
DTSTART;TZID=America/Detroit:20260315T083000
DTEND;TZID=America/Detroit:20260315T103000
DTSTAMP:20260420T225227
CREATED:20260306T191033Z
LAST-MODIFIED:20260306T191042Z
UID:8304-1773563400-1773570600@newhopechurchwayne.com
SUMMARY:Sunday School Lesson for Sunday March 15th\, Giving to the Community\, Deuteronomy 15:4-11 Matthew 25:42-45
DESCRIPTION:
URL:https://newhopechurchwayne.com/event/sunday-school-lesson-for-sunday-march-15th-giving-to-the-community-deuteronomy-154-11-matthew-2542-45/
END:VEVENT
BEGIN:VEVENT
DTSTART;TZID=America/Detroit:20260315T083000
DTEND;TZID=America/Detroit:20260315T143000
DTSTAMP:20260420T225227
CREATED:20260306T192044Z
LAST-MODIFIED:20260306T192048Z
UID:8311-1773563400-1773585000@newhopechurchwayne.com
SUMMARY:New Hope Church Neighborhood Wellness Center
DESCRIPTION:
URL:https://newhopechurchwayne.com/event/new-hope-church-neighborhood-wellness-center-58/
END:VEVENT
BEGIN:VEVENT
DTSTART;TZID=America/Detroit:20260316T080000
DTEND;TZID=America/Detroit:20260316T083000
DTSTAMP:20260420T225227
CREATED:20260314T180052Z
LAST-MODIFIED:20260314T180128Z
UID:8479-1773648000-1773649800@newhopechurchwayne.com
SUMMARY:Read Through the Bible in a Year with Pastor Monday\, March-16th 1 Samuel 4-8
DESCRIPTION:
URL:https://newhopechurchwayne.com/event/read-through-the-bible-in-a-year-with-pastor-monday-march-16th-1-samuel-4-8/
END:VEVENT
BEGIN:VEVENT
DTSTART;TZID=America/Detroit:20260316T080000
DTEND;TZID=America/Detroit:20260316T083000
DTSTAMP:20260420T225227
CREATED:20260314T184921Z
LAST-MODIFIED:20260314T184941Z
UID:8497-1773648000-1773649800@newhopechurchwayne.com
SUMMARY:Community Service Representative If you are in need of community resource information contact James Price 248-716-3587 or email pricej6@gmail.com his website: www.reboundservicesofmi.org
DESCRIPTION:
URL:https://newhopechurchwayne.com/event/community-service-representative-if-you-are-in-need-of-community-resource-information-contact-james-price-248-716-3587-or-email-pricej6gmail-com-his-website-www-reboundservicesofmi-org/
END:VEVENT
BEGIN:VEVENT
DTSTART;TZID=America/Detroit:20260316T090000
DTEND;TZID=America/Detroit:20260316T160000
DTSTAMP:20260420T225227
CREATED:20260226T200157Z
LAST-MODIFIED:20260226T200201Z
UID:8156-1773651600-1773676800@newhopechurchwayne.com
SUMMARY:Colored Eggs and Candy Donations Needed Candy donations can be brought too the church office Monday -Thursday from 9:00a.m.- 4:00 p.m Boiled\, dyed eggs can brought on Friday\, April 3rd from 11:00 a.m.-4:00 p.m.\, or Saturday\, April 4th after 9:00 a.m
DESCRIPTION:
URL:https://newhopechurchwayne.com/event/colored-eggs-and-candy-donations-needed-candy-donations-can-be-brought-too-the-church-office-monday-thursday-from-900a-m-400-p-m-boiled-dyed-eggs-can-brought-on-friday-april-3rd-from-1100-a-m-6/
END:VEVENT
BEGIN:VEVENT
DTSTART;TZID=America/Detroit:20260316T090000
DTEND;TZID=America/Detroit:20260316T160000
DTSTAMP:20260420T225227
CREATED:20260314T162341Z
LAST-MODIFIED:20260314T183949Z
UID:8462-1773651600-1773676800@newhopechurchwayne.com
SUMMARY:New Hope Church Office Hours-Wayne Campus
DESCRIPTION:
URL:https://newhopechurchwayne.com/event/new-hope-church-office-hours-wayne-campus-62/
END:VEVENT
BEGIN:VEVENT
DTSTART;TZID=America/Detroit:20260316T180000
DTEND;TZID=America/Detroit:20260316T190000
DTSTAMP:20260420T225227
CREATED:20260220T202622Z
LAST-MODIFIED:20260220T203940Z
UID:8079-1773684000-1773687600@newhopechurchwayne.com
SUMMARY:Monday Night (Virtual) Bible Study Meeting ID:886 6567 1151 Passcode:247156
DESCRIPTION:
URL:https://newhopechurchwayne.com/event/monday-night-virtual-bible-study-meeting-id886-6567-1151-passcode247156/
END:VEVENT
BEGIN:VEVENT
DTSTART;TZID=America/Detroit:20260317T080000
DTEND;TZID=America/Detroit:20260317T083000
DTSTAMP:20260420T225227
CREATED:20260314T180338Z
LAST-MODIFIED:20260314T181111Z
UID:8482-1773734400-1773736200@newhopechurchwayne.com
SUMMARY:Read Through the Bible in a Year with Pastor Tuesday\, March-17th 1 Samuel 4-8
DESCRIPTION:
URL:https://newhopechurchwayne.com/event/read-through-the-bible-in-a-year-with-pastor-tuesday-march-17th-1-samuel-4-8/
END:VEVENT
BEGIN:VEVENT
DTSTART;TZID=America/Detroit:20260317T090000
DTEND;TZID=America/Detroit:20260317T160000
DTSTAMP:20260420T225227
CREATED:20260314T162507Z
LAST-MODIFIED:20260314T162557Z
UID:8464-1773738000-1773763200@newhopechurchwayne.com
SUMMARY:New Hope Church Office Hours-Wayne Campus
DESCRIPTION:
URL:https://newhopechurchwayne.com/event/new-hope-church-office-hours-wayne-campus-63/
END:VEVENT
BEGIN:VEVENT
DTSTART;TZID=America/Detroit:20260317T100000
DTEND;TZID=America/Detroit:20260317T183000
DTSTAMP:20260420T225227
CREATED:20260314T163938Z
LAST-MODIFIED:20260314T163947Z
UID:8472-1773741600-1773772200@newhopechurchwayne.com
SUMMARY:New Hope Church Neighborhood Wellness Center Free Health Services-Room 118\, Wayne Campus
DESCRIPTION:
URL:https://newhopechurchwayne.com/event/new-hope-church-neighborhood-wellness-center-free-health-services-room-118-wayne-campus-7/
END:VEVENT
BEGIN:VEVENT
DTSTART;TZID=America/Detroit:20260317T173000
DTEND;TZID=America/Detroit:20260317T180000
DTSTAMP:20260420T225227
CREATED:20260114T230709Z
LAST-MODIFIED:20260114T230712Z
UID:7599-1773768600-1773770400@newhopechurchwayne.com
SUMMARY:Dinner before Discipleship Class
DESCRIPTION:
URL:https://newhopechurchwayne.com/event/dinner-before-discipleship-class-3/
END:VEVENT
BEGIN:VEVENT
DTSTART;TZID=America/Detroit:20260317T180000
DTEND;TZID=America/Detroit:20260317T193000
DTSTAMP:20260420T225227
CREATED:20260114T225225Z
LAST-MODIFIED:20260114T230001Z
UID:7588-1773770400-1773775800@newhopechurchwayne.com
SUMMARY:Discipleship Bible Study
DESCRIPTION:
URL:https://newhopechurchwayne.com/event/discipleship-bible-study-3/
END:VEVENT
BEGIN:VEVENT
DTSTART;TZID=America/Detroit:20260317T180000
DTEND;TZID=America/Detroit:20260317T193000
DTSTAMP:20260420T225227
CREATED:20260218T192220Z
LAST-MODIFIED:20260218T192223Z
UID:7999-1773770400-1773775800@newhopechurchwayne.com
SUMMARY:GriefShare-Contact: Jackie Morris-newhopewayne@gmail.com-734-728-2180 Register-griefshare.org/findagroup
DESCRIPTION:
URL:https://newhopechurchwayne.com/event/griefshare-contact-jackie-morris-newhopewaynegmail-com-734-728-2180-register-griefshare-org-findagroup-2/
END:VEVENT
BEGIN:VEVENT
DTSTART;TZID=America/Detroit:20260318T060000
DTEND;TZID=America/Detroit:20260318T061500
DTSTAMP:20260420T225227
CREATED:20260226T201919Z
LAST-MODIFIED:20260226T201922Z
UID:8164-1773813600-1773814500@newhopechurchwayne.com
SUMMARY:New Hope Prayer Line Join us for prayer each Wednesday morning by calling 520-525-8990
DESCRIPTION:
URL:https://newhopechurchwayne.com/event/new-hope-prayer-line-join-us-for-prayer-each-wednesday-morning-by-calling-520-525-8990-10/
END:VEVENT
BEGIN:VEVENT
DTSTART;TZID=America/Detroit:20260318T080000
DTEND;TZID=America/Detroit:20260318T083000
DTSTAMP:20260420T225227
CREATED:20260314T182338Z
LAST-MODIFIED:20260314T182937Z
UID:8484-1773820800-1773822600@newhopechurchwayne.com
SUMMARY:Read Through the Bible in a Year with Pastor Wednesday\, March-18th 1 Samuel 9-12
DESCRIPTION:
URL:https://newhopechurchwayne.com/event/read-through-the-bible-in-a-year-with-pastor-thursday-march-19th-1-samuel-13-15/
END:VEVENT
BEGIN:VEVENT
DTSTART;TZID=America/Detroit:20260318T110000
DTEND;TZID=America/Detroit:20260318T160000
DTSTAMP:20260420T225227
CREATED:20260314T162813Z
LAST-MODIFIED:20260314T163226Z
UID:8469-1773831600-1773849600@newhopechurchwayne.com
SUMMARY:New Hope Church Office Hours-Wayne Campus
DESCRIPTION:
URL:https://newhopechurchwayne.com/event/new-hope-church-office-hours-wayne-campus-65/
END:VEVENT
BEGIN:VEVENT
DTSTART;TZID=America/Detroit:20260318T183000
DTEND;TZID=America/Detroit:20260318T184500
DTSTAMP:20260420T225227
CREATED:20260226T202613Z
LAST-MODIFIED:20260226T202615Z
UID:8170-1773858600-1773859500@newhopechurchwayne.com
SUMMARY:New Hope Prayer Line Join us for prayer each Wednesday morning by calling 520-525-8990.
DESCRIPTION:
URL:https://newhopechurchwayne.com/event/new-hope-prayer-line-join-us-for-prayer-each-wednesday-morning-by-calling-520-525-8990-13/
END:VEVENT
BEGIN:VEVENT
DTSTART;TZID=America/Detroit:20260318T183000
DTEND;TZID=America/Detroit:20260318T203000
DTSTAMP:20260420T225227
CREATED:20260306T181038Z
LAST-MODIFIED:20260306T181050Z
UID:8297-1773858600-1773865800@newhopechurchwayne.com
SUMMARY:New Hope Academy Choir Rehearsal Taylor  Campus
DESCRIPTION:
URL:https://newhopechurchwayne.com/event/new-hope-academy-choir-rehearsal-taylor-campus-4/
END:VEVENT
BEGIN:VEVENT
DTSTART;TZID=America/Detroit:20260319T080000
DTEND;TZID=America/Detroit:20260319T083000
DTSTAMP:20260420T225227
CREATED:20260314T183204Z
LAST-MODIFIED:20260314T183214Z
UID:8489-1773907200-1773909000@newhopechurchwayne.com
SUMMARY:Read Through the Bible in a Year with Pastor Thursday\, March 19th-1 Samuel 13-15
DESCRIPTION:
URL:https://newhopechurchwayne.com/event/read-through-the-bible-in-a-year-with-pastor-thursday-march-19th-1-samuel-13-15-2/
END:VEVENT
BEGIN:VEVENT
DTSTART;TZID=America/Detroit:20260319T090000
DTEND;TZID=America/Detroit:20260319T160000
DTSTAMP:20260420T225227
CREATED:20260314T162704Z
LAST-MODIFIED:20260314T162707Z
UID:8467-1773910800-1773936000@newhopechurchwayne.com
SUMMARY:New Hope Church Office Hours-Wayne Campus
DESCRIPTION:
URL:https://newhopechurchwayne.com/event/new-hope-church-office-hours-wayne-campus-64/
END:VEVENT
END:VCALENDAR