BEGIN:VCALENDAR
VERSION:2.0
PRODID:-//NEW HOPE BAPTIST CHURCH - ECPv6.15.18//NONSGML v1.0//EN
CALSCALE:GREGORIAN
METHOD:PUBLISH
X-ORIGINAL-URL:https://newhopechurchwayne.com
X-WR-CALDESC:Events for NEW HOPE BAPTIST CHURCH
REFRESH-INTERVAL;VALUE=DURATION:PT1H
X-Robots-Tag:noindex
X-PUBLISHED-TTL:PT1H
BEGIN:VTIMEZONE
TZID:America/Detroit
BEGIN:DAYLIGHT
TZOFFSETFROM:-0500
TZOFFSETTO:-0400
TZNAME:EDT
DTSTART:20250309T070000
END:DAYLIGHT
BEGIN:STANDARD
TZOFFSETFROM:-0400
TZOFFSETTO:-0500
TZNAME:EST
DTSTART:20251102T060000
END:STANDARD
BEGIN:DAYLIGHT
TZOFFSETFROM:-0500
TZOFFSETTO:-0400
TZNAME:EDT
DTSTART:20260308T070000
END:DAYLIGHT
BEGIN:STANDARD
TZOFFSETFROM:-0400
TZOFFSETTO:-0500
TZNAME:EST
DTSTART:20261101T060000
END:STANDARD
BEGIN:DAYLIGHT
TZOFFSETFROM:-0500
TZOFFSETTO:-0400
TZNAME:EDT
DTSTART:20270314T070000
END:DAYLIGHT
BEGIN:STANDARD
TZOFFSETFROM:-0400
TZOFFSETTO:-0500
TZNAME:EST
DTSTART:20271107T060000
END:STANDARD
END:VTIMEZONE
BEGIN:VEVENT
DTSTART;TZID=America/Detroit:20260323T180000
DTEND;TZID=America/Detroit:20260323T190000
DTSTAMP:20260421T062307
CREATED:20260220T204123Z
LAST-MODIFIED:20260220T204125Z
UID:8081-1774288800-1774292400@newhopechurchwayne.com
SUMMARY:Monday Night (Virtual) Bible Study Meeting ID:886 6567 1151 Passcode:247156
DESCRIPTION:
URL:https://newhopechurchwayne.com/event/monday-night-virtual-bible-study-meeting-id886-6567-1151-passcode247156-2/
END:VEVENT
BEGIN:VEVENT
DTSTART;TZID=America/Detroit:20260324T080000
DTEND;TZID=America/Detroit:20260324T090000
DTSTAMP:20260421T062307
CREATED:20260321T123546Z
LAST-MODIFIED:20260321T123548Z
UID:8506-1774339200-1774342800@newhopechurchwayne.com
SUMMARY:Read Through the Bible in a Year with Pastor-1 Samuel 27-31
DESCRIPTION:–
URL:https://newhopechurchwayne.com/event/read-through-the-bible-in-a-year-with-pastor-1-samuel-27-31-2/
END:VEVENT
BEGIN:VEVENT
DTSTART;TZID=America/Detroit:20260324T090000
DTEND;TZID=America/Detroit:20260324T160000
DTSTAMP:20260421T062307
CREATED:20260321T125552Z
LAST-MODIFIED:20260321T125554Z
UID:8520-1774342800-1774368000@newhopechurchwayne.com
SUMMARY:New Hope Church Office Hours Wayne Campus
DESCRIPTION:
URL:https://newhopechurchwayne.com/event/new-hope-church-office-hours-wayne-campus-67/
END:VEVENT
BEGIN:VEVENT
DTSTART;TZID=America/Detroit:20260324T100000
DTEND;TZID=America/Detroit:20260324T180000
DTSTAMP:20260421T062307
CREATED:20260321T130133Z
LAST-MODIFIED:20260321T130139Z
UID:8528-1774346400-1774375200@newhopechurchwayne.com
SUMMARY:New Hope Church Neighborhood Wellness Center
DESCRIPTION:
URL:https://newhopechurchwayne.com/event/new-hope-church-neighborhood-wellness-center-60/
END:VEVENT
BEGIN:VEVENT
DTSTART;TZID=America/Detroit:20260324T173000
DTEND;TZID=America/Detroit:20260324T180000
DTSTAMP:20260421T062307
CREATED:20260114T230828Z
LAST-MODIFIED:20260114T230830Z
UID:7601-1774373400-1774375200@newhopechurchwayne.com
SUMMARY:Dinner before Discipleship Class
DESCRIPTION:
URL:https://newhopechurchwayne.com/event/dinner-before-discipleship-class-4/
END:VEVENT
BEGIN:VEVENT
DTSTART;TZID=America/Detroit:20260324T180000
DTEND;TZID=America/Detroit:20260324T193000
DTSTAMP:20260421T062307
CREATED:20260114T225344Z
LAST-MODIFIED:20260114T230102Z
UID:7590-1774375200-1774380600@newhopechurchwayne.com
SUMMARY:Discipleship Bible Study
DESCRIPTION:
URL:https://newhopechurchwayne.com/event/discipleship-bible-study-4/
END:VEVENT
BEGIN:VEVENT
DTSTART;TZID=America/Detroit:20260324T180000
DTEND;TZID=America/Detroit:20260324T193000
DTSTAMP:20260421T062307
CREATED:20260218T192330Z
LAST-MODIFIED:20260218T192333Z
UID:8001-1774375200-1774380600@newhopechurchwayne.com
SUMMARY:GriefShare-Contact: Jackie Morris-newhopewayne@gmail.com-734-728-2180 Register-griefshare.org/findagroup
DESCRIPTION:
URL:https://newhopechurchwayne.com/event/griefshare-contact-jackie-morris-newhopewaynegmail-com-734-728-2180-register-griefshare-org-findagroup-3/
END:VEVENT
BEGIN:VEVENT
DTSTART;TZID=America/Detroit:20260325T060000
DTEND;TZID=America/Detroit:20260325T061500
DTSTAMP:20260421T062307
CREATED:20260226T202021Z
LAST-MODIFIED:20260226T202025Z
UID:8166-1774418400-1774419300@newhopechurchwayne.com
SUMMARY:New Hope Prayer Line Join us for prayer each Wednesday morning by calling 520-525-8990
DESCRIPTION:
URL:https://newhopechurchwayne.com/event/new-hope-prayer-line-join-us-for-prayer-each-wednesday-morning-by-calling-520-525-8990-11/
END:VEVENT
BEGIN:VEVENT
DTSTART;TZID=America/Detroit:20260325T080000
DTEND;TZID=America/Detroit:20260325T090000
DTSTAMP:20260421T062307
CREATED:20260321T123826Z
LAST-MODIFIED:20260321T123829Z
UID:8508-1774425600-1774429200@newhopechurchwayne.com
SUMMARY:Read Through the Bible in a Year with Pastor- 2 Samuel 1-4
DESCRIPTION:
URL:https://newhopechurchwayne.com/event/read-through-the-bible-in-a-year-with-pastor-2-samuel-1-4/
END:VEVENT
BEGIN:VEVENT
DTSTART;TZID=America/Detroit:20260325T110000
DTEND;TZID=America/Detroit:20260325T160000
DTSTAMP:20260421T062307
CREATED:20260321T125706Z
LAST-MODIFIED:20260321T125708Z
UID:8522-1774436400-1774454400@newhopechurchwayne.com
SUMMARY:New Hope Church Office Hours Wayne Campus
DESCRIPTION:
URL:https://newhopechurchwayne.com/event/new-hope-church-office-hours-wayne-campus-68/
END:VEVENT
BEGIN:VEVENT
DTSTART;TZID=America/Detroit:20260325T183000
DTEND;TZID=America/Detroit:20260325T184500
DTSTAMP:20260421T062307
CREATED:20260226T202750Z
LAST-MODIFIED:20260226T202752Z
UID:8172-1774463400-1774464300@newhopechurchwayne.com
SUMMARY:New Hope Prayer Line Join us for prayer each Wednesday morning by calling 520-525-8990.
DESCRIPTION:
URL:https://newhopechurchwayne.com/event/new-hope-prayer-line-join-us-for-prayer-each-wednesday-morning-by-calling-520-525-8990-14/
END:VEVENT
BEGIN:VEVENT
DTSTART;TZID=America/Detroit:20260325T183000
DTEND;TZID=America/Detroit:20260325T203000
DTSTAMP:20260421T062307
CREATED:20260214T154045Z
LAST-MODIFIED:20260214T154049Z
UID:7949-1774463400-1774470600@newhopechurchwayne.com
SUMMARY:New Hope Academy Choir Rehearsal-Taylor Campus
DESCRIPTION:
URL:https://newhopechurchwayne.com/event/new-hope-academy-choir-rehearsal-taylor-campus-3/
END:VEVENT
BEGIN:VEVENT
DTSTART;TZID=America/Detroit:20260325T183000
DTEND;TZID=America/Detroit:20260325T203000
DTSTAMP:20260421T062307
CREATED:20260306T181259Z
LAST-MODIFIED:20260306T181507Z
UID:8299-1774463400-1774470600@newhopechurchwayne.com
SUMMARY:New Hope Academy Choir Rehearsal Taylor Campus
DESCRIPTION:
URL:https://newhopechurchwayne.com/event/new-hope-academy-choir-rehearsal-taylor-campus-5/
END:VEVENT
BEGIN:VEVENT
DTSTART;TZID=America/Detroit:20260326T080000
DTEND;TZID=America/Detroit:20260326T090000
DTSTAMP:20260421T062307
CREATED:20260321T124001Z
LAST-MODIFIED:20260321T124007Z
UID:8510-1774512000-1774515600@newhopechurchwayne.com
SUMMARY:Read Through the Bible in a Year with Pastor 2 Samuel 5-7
DESCRIPTION:
URL:https://newhopechurchwayne.com/event/read-through-the-bible-in-a-year-with-pastor-2-samuel-5-7/
END:VEVENT
BEGIN:VEVENT
DTSTART;TZID=America/Detroit:20260326T090000
DTEND;TZID=America/Detroit:20260326T160000
DTSTAMP:20260421T062307
CREATED:20260321T125801Z
LAST-MODIFIED:20260321T125806Z
UID:8524-1774515600-1774540800@newhopechurchwayne.com
SUMMARY:New Hope Church Office Hours Wayne Campus
DESCRIPTION:
URL:https://newhopechurchwayne.com/event/new-hope-church-office-hours-wayne-campus-69/
END:VEVENT
BEGIN:VEVENT
DTSTART;TZID=America/Detroit:20260326T130000
DTEND;TZID=America/Detroit:20260326T150000
DTSTAMP:20260421T062307
CREATED:20260218T205739Z
LAST-MODIFIED:20260218T205743Z
UID:8042-1774530000-1774537200@newhopechurchwayne.com
SUMMARY:Hustle Dance Class Resumes-Wayne Campus-$10 per session for instruction.
DESCRIPTION:
URL:https://newhopechurchwayne.com/event/hustle-dance-class-resumes-wayne-campus-10-per-session-for-instruction-3/
END:VEVENT
BEGIN:VEVENT
DTSTART;TZID=America/Detroit:20260326T183000
DTEND;TZID=America/Detroit:20260326T203000
DTSTAMP:20260421T062307
CREATED:20260301T232120Z
LAST-MODIFIED:20260301T232123Z
UID:8213-1774549800-1774557000@newhopechurchwayne.com
SUMMARY:New Hope Academy Choir Rehearsal Wayne Campus
DESCRIPTION:
URL:https://newhopechurchwayne.com/event/new-hope-academy-choir-rehearsal-wayne-campus-6/
END:VEVENT
BEGIN:VEVENT
DTSTART;TZID=America/Detroit:20260327T080000
DTEND;TZID=America/Detroit:20260327T090000
DTSTAMP:20260421T062307
CREATED:20260321T124236Z
LAST-MODIFIED:20260321T124238Z
UID:8512-1774598400-1774602000@newhopechurchwayne.com
SUMMARY:Read Through the Bible in a Year with Pastor-2 Samuel 8-10
DESCRIPTION:
URL:https://newhopechurchwayne.com/event/read-through-the-bible-in-a-year-with-pastor-2-samuel-8-10/
END:VEVENT
BEGIN:VEVENT
DTSTART;TZID=America/Detroit:20260327T100000
DTEND;TZID=America/Detroit:20260327T114500
DTSTAMP:20260421T062307
CREATED:20260224T194145Z
LAST-MODIFIED:20260302T183754Z
UID:8134-1774605600-1774611900@newhopechurchwayne.com
SUMMARY:THE SENIOR MINISTRY IS HOSTING A  VISIT THE WELLNESS CENTER EVENT @ WAYNE CAMPUS TO PROMOTE WELLNESS AND FUN
DESCRIPTION:
URL:https://newhopechurchwayne.com/event/the-senior-visit-the-wellness-center-wayne/
END:VEVENT
BEGIN:VEVENT
DTSTART;TZID=America/Detroit:20260327T100000
DTEND;TZID=America/Detroit:20260327T180000
DTSTAMP:20260421T062307
CREATED:20260321T130442Z
LAST-MODIFIED:20260321T130445Z
UID:8530-1774605600-1774634400@newhopechurchwayne.com
SUMMARY:New Hope Church Neighborhood Wellness Center
DESCRIPTION:
URL:https://newhopechurchwayne.com/event/new-hope-church-neighborhood-wellness-center-61/
END:VEVENT
BEGIN:VEVENT
DTSTART;TZID=America/Detroit:20260327T120000
DTEND;TZID=America/Detroit:20260327T133000
DTSTAMP:20260421T062307
CREATED:20260224T194711Z
LAST-MODIFIED:20260302T181357Z
UID:8136-1774612800-1774618200@newhopechurchwayne.com
SUMMARY:SENIORS SPONSOR LUNCHEON AND BINGO GAME-ALL ATTENDEES MUST VISIT THE WELLNESS CENTER TO PARTICIPATE!
DESCRIPTION:
URL:https://newhopechurchwayne.com/event/seniors-sponsor-luncheon-and-bingo-game-all-attendees-must-visit-the-wellness-center-to-participate/
END:VEVENT
BEGIN:VEVENT
DTSTART;TZID=America/Detroit:20260328T080000
DTEND;TZID=America/Detroit:20260328T090000
DTSTAMP:20260421T062307
CREATED:20260321T124501Z
LAST-MODIFIED:20260321T124507Z
UID:8514-1774684800-1774688400@newhopechurchwayne.com
SUMMARY:Read Through the Bible in a Year with Pastor 2 Samuel 11-14
DESCRIPTION:
URL:https://newhopechurchwayne.com/event/read-through-the-bible-in-a-year-with-pastor-2-samuel-11-14/
END:VEVENT
BEGIN:VEVENT
DTSTART;TZID=America/Detroit:20260328T090000
DTEND;TZID=America/Detroit:20260328T113000
DTSTAMP:20260421T062307
CREATED:20260306T173120Z
LAST-MODIFIED:20260306T173133Z
UID:8293-1774688400-1774697400@newhopechurchwayne.com
SUMMARY:Children & Young Adult Praise Dance Practice Children\, Adult\, and Young Adult dancers will meet Saturdays Wayne Campus. Contact Min. Delores Johnson (734) 469-0276
DESCRIPTION:
URL:https://newhopechurchwayne.com/event/children-young-adult-praise-dance-practice-children-adult-and-young-adult-dancers-will-meet-saturdays-wayne-campus-contact-min-delores-johnson-734-469-0276-4/
END:VEVENT
BEGIN:VEVENT
DTSTART;TZID=America/Detroit:20260328T170000
DTEND;TZID=America/Detroit:20260328T190000
DTSTAMP:20260421T062307
CREATED:20260308T000603Z
LAST-MODIFIED:20260308T000605Z
UID:8446-1774717200-1774724400@newhopechurchwayne.com
SUMMARY:Couple’s Ministry event--Painting with a twist any questions call ALEX & OLA PUGH (PRESIDENT) (734) 756-7866 (313) 909-2194 
DESCRIPTION:
URL:https://newhopechurchwayne.com/event/couples-ministry-event-painting-with-a-twist-any-questions-call-alex-ola-pugh-president-734-756-7866-313-909-2194/
END:VEVENT
BEGIN:VEVENT
DTSTART;TZID=America/Detroit:20260329T080000
DTEND;TZID=America/Detroit:20260329T083000
DTSTAMP:20260421T062307
CREATED:20260326T194831Z
LAST-MODIFIED:20260326T195013Z
UID:8558-1774771200-1774773000@newhopechurchwayne.com
SUMMARY:Read Through the Bible in a Year with Pastor Samuel 15-18
DESCRIPTION:
URL:https://newhopechurchwayne.com/event/read-through-the-bible-in-a-year-with-pastorsamuel-15-18/
END:VEVENT
BEGIN:VEVENT
DTSTART;TZID=America/Detroit:20260329T080000
DTEND;TZID=America/Detroit:20260329T103000
DTSTAMP:20260421T062307
CREATED:20260321T125233Z
LAST-MODIFIED:20260321T125235Z
UID:8516-1774771200-1774780200@newhopechurchwayne.com
SUMMARY:Sunday School Lesson for Sunday Waiting for God Peace Isaiah 2:2-4:Acts 17:26-28
DESCRIPTION:
URL:https://newhopechurchwayne.com/event/sunday-school-lesson-for-sunday-waiting-for-god-peace-isaiah-22-4acts-1726-28/
END:VEVENT
BEGIN:VEVENT
DTSTART;TZID=America/Detroit:20260329T080000
DTEND;TZID=America/Detroit:20260329T110000
DTSTAMP:20260421T062307
CREATED:20260308T001320Z
LAST-MODIFIED:20260308T001323Z
UID:8448-1774771200-1774782000@newhopechurchwayne.com
SUMMARY:Young Adult Ministry Emphasis om all Services
DESCRIPTION:
URL:https://newhopechurchwayne.com/event/young-adult-ministry-emphasis-om-all-services/
END:VEVENT
BEGIN:VEVENT
DTSTART;TZID=America/Detroit:20260329T080000
DTEND;TZID=America/Detroit:20260329T113000
DTSTAMP:20260421T062307
CREATED:20260327T235058Z
LAST-MODIFIED:20260327T235101Z
UID:8595-1774771200-1774783800@newhopechurchwayne.com
SUMMARY:Pastor Virgil Humes-Sermon Stop Sitting On What God Can Use Luke 19:34
DESCRIPTION:
URL:https://newhopechurchwayne.com/event/pastor-virgil-humes-sermon-stop-sitting-on-what-god-can-use-luke-1934/
END:VEVENT
BEGIN:VEVENT
DTSTART;TZID=America/Detroit:20260329T083000
DTEND;TZID=America/Detroit:20260329T143000
DTSTAMP:20260421T062307
CREATED:20260327T233829Z
LAST-MODIFIED:20260327T233831Z
UID:8585-1774773000-1774794600@newhopechurchwayne.com
SUMMARY:New Hope Church Neighborhood Wellness Center Free Health Services Room 118\, Wayne Campus
DESCRIPTION:
URL:https://newhopechurchwayne.com/event/new-hope-church-neighborhood-wellness-center-free-health-services-room-118-wayne-campus-9/
END:VEVENT
BEGIN:VEVENT
DTSTART;TZID=America/Detroit:20260329T103000
DTEND;TZID=America/Detroit:20260329T110000
DTSTAMP:20260421T062307
CREATED:20260223T195854Z
LAST-MODIFIED:20260223T195857Z
UID:8130-1774780200-1774782000@newhopechurchwayne.com
SUMMARY:Baptism Before Services
DESCRIPTION:
URL:https://newhopechurchwayne.com/event/baptism-before-services/
END:VEVENT
END:VCALENDAR