BEGIN:VCALENDAR
VERSION:2.0
PRODID:-//NEW HOPE BAPTIST CHURCH - ECPv6.15.18//NONSGML v1.0//EN
CALSCALE:GREGORIAN
METHOD:PUBLISH
X-WR-CALNAME:NEW HOPE BAPTIST CHURCH
X-ORIGINAL-URL:https://newhopechurchwayne.com
X-WR-CALDESC:Events for NEW HOPE BAPTIST CHURCH
REFRESH-INTERVAL;VALUE=DURATION:PT1H
X-Robots-Tag:noindex
X-PUBLISHED-TTL:PT1H
BEGIN:VTIMEZONE
TZID:America/Detroit
BEGIN:DAYLIGHT
TZOFFSETFROM:-0500
TZOFFSETTO:-0400
TZNAME:EDT
DTSTART:20250309T070000
END:DAYLIGHT
BEGIN:STANDARD
TZOFFSETFROM:-0400
TZOFFSETTO:-0500
TZNAME:EST
DTSTART:20251102T060000
END:STANDARD
BEGIN:DAYLIGHT
TZOFFSETFROM:-0500
TZOFFSETTO:-0400
TZNAME:EDT
DTSTART:20260308T070000
END:DAYLIGHT
BEGIN:STANDARD
TZOFFSETFROM:-0400
TZOFFSETTO:-0500
TZNAME:EST
DTSTART:20261101T060000
END:STANDARD
BEGIN:DAYLIGHT
TZOFFSETFROM:-0500
TZOFFSETTO:-0400
TZNAME:EDT
DTSTART:20270314T070000
END:DAYLIGHT
BEGIN:STANDARD
TZOFFSETFROM:-0400
TZOFFSETTO:-0500
TZNAME:EST
DTSTART:20271107T060000
END:STANDARD
END:VTIMEZONE
BEGIN:VEVENT
DTSTART;TZID=America/Detroit:20260330T080000
DTEND;TZID=America/Detroit:20260330T083000
DTSTAMP:20260421T133348
CREATED:20260327T231009Z
LAST-MODIFIED:20260327T231015Z
UID:8561-1774857600-1774859400@newhopechurchwayne.com
SUMMARY:Read Through the Bible in a Year with Pastor 2 Samuel 19-20
DESCRIPTION:
URL:https://newhopechurchwayne.com/event/read-through-the-bible-in-a-year-with-pastor-2-samuel-19-20/
END:VEVENT
BEGIN:VEVENT
DTSTART;TZID=America/Detroit:20260330T080000
DTEND;TZID=America/Detroit:20260330T083000
DTSTAMP:20260421T133348
CREATED:20260327T234524Z
LAST-MODIFIED:20260327T234527Z
UID:8593-1774857600-1774859400@newhopechurchwayne.com
SUMMARY:Community Service Representative If you are in need of community resource information contact James Price 248-716-3587 or email pricej6@gmail.com.
DESCRIPTION:
URL:https://newhopechurchwayne.com/event/community-service-representative-if-you-are-in-need-of-community-resource-information-contact-james-price-248-716-3587-or-email-pricej6gmail-com/
END:VEVENT
BEGIN:VEVENT
DTSTART;TZID=America/Detroit:20260330T090000
DTEND;TZID=America/Detroit:20260330T160000
DTSTAMP:20260421T133348
CREATED:20260226T201401Z
LAST-MODIFIED:20260226T201405Z
UID:8160-1774861200-1774886400@newhopechurchwayne.com
SUMMARY:Colored Eggs and Candy Donations Needed Candy donations can be brought too the church office Monday -Thursday from 9:00a.m.- 4:00 p.m Boiled\, dyed eggs can brought on Friday\, April 3rd from 11:00 a.m.-4:00 p.m.\, or Saturday\, April 4th after 9:00 a.m
DESCRIPTION:
URL:https://newhopechurchwayne.com/event/colored-eggs-and-candy-donations-needed-candy-donations-can-be-brought-too-the-church-office-monday-thursday-from-900a-m-400-p-m-boiled-dyed-eggs-can-brought-on-friday-april-3rd-from-1100-a-m-8/
END:VEVENT
BEGIN:VEVENT
DTSTART;TZID=America/Detroit:20260330T090000
DTEND;TZID=America/Detroit:20260330T160000
DTSTAMP:20260421T133348
CREATED:20260327T233122Z
LAST-MODIFIED:20260327T233124Z
UID:8576-1774861200-1774886400@newhopechurchwayne.com
SUMMARY:New Hope Church Office Hours-Wayne Campus
DESCRIPTION:
URL:https://newhopechurchwayne.com/event/new-hope-church-office-hours-wayne-campus-70/
END:VEVENT
BEGIN:VEVENT
DTSTART;TZID=America/Detroit:20260330T180000
DTEND;TZID=America/Detroit:20260330T190000
DTSTAMP:20260421T133348
CREATED:20260220T204223Z
LAST-MODIFIED:20260220T204226Z
UID:8083-1774893600-1774897200@newhopechurchwayne.com
SUMMARY:Monday Night (Virtual) Bible Study Meeting ID:886 6567 1151 Passcode:247156
DESCRIPTION:
URL:https://newhopechurchwayne.com/event/monday-night-virtual-bible-study-meeting-id886-6567-1151-passcode247156-3/
END:VEVENT
BEGIN:VEVENT
DTSTART;TZID=America/Detroit:20260331T080000
DTEND;TZID=America/Detroit:20260331T083000
DTSTAMP:20260421T133348
CREATED:20260327T231149Z
LAST-MODIFIED:20260327T231152Z
UID:8563-1774944000-1774945800@newhopechurchwayne.com
SUMMARY:Read Through the Bible in a Year with Pastor 2 Samuel 21-24
DESCRIPTION:
URL:https://newhopechurchwayne.com/event/read-through-the-bible-in-a-year-with-pastor-2-samuel-21-24/
END:VEVENT
BEGIN:VEVENT
DTSTART;TZID=America/Detroit:20260331T090000
DTEND;TZID=America/Detroit:20260331T160000
DTSTAMP:20260421T133348
CREATED:20260327T233214Z
LAST-MODIFIED:20260327T233217Z
UID:8579-1774947600-1774972800@newhopechurchwayne.com
SUMMARY:New Hope Church Office Hours-Wayne Campus
DESCRIPTION:
URL:https://newhopechurchwayne.com/event/new-hope-church-office-hours-wayne-campus-71/
END:VEVENT
BEGIN:VEVENT
DTSTART;TZID=America/Detroit:20260331T100000
DTEND;TZID=America/Detroit:20260331T180000
DTSTAMP:20260421T133348
CREATED:20260327T233938Z
LAST-MODIFIED:20260327T233942Z
UID:8587-1774951200-1774980000@newhopechurchwayne.com
SUMMARY:New Hope Church Neighborhood Wellness Center Free Health Services Room 118\, Wayne Campus
DESCRIPTION:
URL:https://newhopechurchwayne.com/event/new-hope-church-neighborhood-wellness-center-free-health-services-room-118-wayne-campus-10/
END:VEVENT
BEGIN:VEVENT
DTSTART;TZID=America/Detroit:20260331T173000
DTEND;TZID=America/Detroit:20260331T180000
DTSTAMP:20260421T133348
CREATED:20260114T230950Z
LAST-MODIFIED:20260114T231041Z
UID:7604-1774978200-1774980000@newhopechurchwayne.com
SUMMARY:Dinner before Discipleship Class
DESCRIPTION:
URL:https://newhopechurchwayne.com/event/dinner-before-discipleship-class-5/
END:VEVENT
BEGIN:VEVENT
DTSTART;TZID=America/Detroit:20260331T180000
DTEND;TZID=America/Detroit:20260331T193000
DTSTAMP:20260421T133348
CREATED:20260114T225458Z
LAST-MODIFIED:20260114T225501Z
UID:7592-1774980000-1774985400@newhopechurchwayne.com
SUMMARY:Discipleship Bible Study
DESCRIPTION:
URL:https://newhopechurchwayne.com/event/discipleship-bible-study-5/
END:VEVENT
BEGIN:VEVENT
DTSTART;TZID=America/Detroit:20260331T180000
DTEND;TZID=America/Detroit:20260331T193000
DTSTAMP:20260421T133348
CREATED:20260218T192505Z
LAST-MODIFIED:20260218T192829Z
UID:8003-1774980000-1774985400@newhopechurchwayne.com
SUMMARY:GriefShare-Contact: Jackie Morris-newhopewayne@gmail.com-734-728-2180 Register-griefshare.org/findagroup
DESCRIPTION:
URL:https://newhopechurchwayne.com/event/griefshare-contact-jackie-morris-newhopewaynegmail-com-734-728-2180-register-griefshare-org-findagroup-4/
END:VEVENT
BEGIN:VEVENT
DTSTART;TZID=America/Detroit:20260401T060000
DTEND;TZID=America/Detroit:20260401T061500
DTSTAMP:20260421T133348
CREATED:20260306T151142Z
LAST-MODIFIED:20260306T151147Z
UID:8267-1775023200-1775024100@newhopechurchwayne.com
SUMMARY:New Hope Prayer Line Join us for prayer each Wednesday morning by calling 520-525-8990.
DESCRIPTION:
URL:https://newhopechurchwayne.com/event/new-hope-prayer-line-join-us-for-prayer-each-wednesday-morning-by-calling-520-525-8990-15/
END:VEVENT
BEGIN:VEVENT
DTSTART;TZID=America/Detroit:20260401T080000
DTEND;TZID=America/Detroit:20260401T083000
DTSTAMP:20260421T133348
CREATED:20260327T231337Z
LAST-MODIFIED:20260327T231339Z
UID:8565-1775030400-1775032200@newhopechurchwayne.com
SUMMARY:Read Through the Bible in a Year with Pastor 1 Kings 1-4
DESCRIPTION:
URL:https://newhopechurchwayne.com/event/read-through-the-bible-in-a-year-with-pastor-1-kings-1-4/
END:VEVENT
BEGIN:VEVENT
DTSTART;TZID=America/Detroit:20260401T110000
DTEND;TZID=America/Detroit:20260401T160000
DTSTAMP:20260421T133348
CREATED:20260327T233307Z
LAST-MODIFIED:20260327T233309Z
UID:8581-1775041200-1775059200@newhopechurchwayne.com
SUMMARY:New Hope Church Office Hours-Wayne Campus
DESCRIPTION:
URL:https://newhopechurchwayne.com/event/new-hope-church-office-hours-wayne-campus-72/
END:VEVENT
BEGIN:VEVENT
DTSTART;TZID=America/Detroit:20260401T183000
DTEND;TZID=America/Detroit:20260401T184500
DTSTAMP:20260421T133348
CREATED:20260306T151332Z
LAST-MODIFIED:20260306T151338Z
UID:8269-1775068200-1775069100@newhopechurchwayne.com
SUMMARY:New Hope Prayer Line Join us for prayer each Wednesday evening  by calling 520-525-8990.
DESCRIPTION:
URL:https://newhopechurchwayne.com/event/new-hope-prayer-line-join-us-for-prayer-each-wednesday-evening-by-calling-520-525-8990-3/
END:VEVENT
BEGIN:VEVENT
DTSTART;TZID=America/Detroit:20260402T080000
DTEND;TZID=America/Detroit:20260402T083000
DTSTAMP:20260421T133348
CREATED:20260327T231449Z
LAST-MODIFIED:20260327T231451Z
UID:8567-1775116800-1775118600@newhopechurchwayne.com
SUMMARY:Read Through the Bible in a Year with Pastor 1 Kings 5-8
DESCRIPTION:
URL:https://newhopechurchwayne.com/event/read-through-the-bible-in-a-year-with-pastor-1-kings-5-8/
END:VEVENT
BEGIN:VEVENT
DTSTART;TZID=America/Detroit:20260402T090000
DTEND;TZID=America/Detroit:20260402T160000
DTSTAMP:20260421T133348
CREATED:20260327T233419Z
LAST-MODIFIED:20260327T233422Z
UID:8583-1775120400-1775145600@newhopechurchwayne.com
SUMMARY:New Hope Church Office Hours-Wayne Campus
DESCRIPTION:
URL:https://newhopechurchwayne.com/event/new-hope-church-office-hours-wayne-campus-73/
END:VEVENT
BEGIN:VEVENT
DTSTART;TZID=America/Detroit:20260402T130000
DTEND;TZID=America/Detroit:20260402T150000
DTSTAMP:20260421T133348
CREATED:20260306T172346Z
LAST-MODIFIED:20260306T172352Z
UID:8288-1775134800-1775142000@newhopechurchwayne.com
SUMMARY:Hustle Dance Class Resumes-Wayne Campus-$10 per session for instruction.
DESCRIPTION:
URL:https://newhopechurchwayne.com/event/hustle-dance-class-resumes-wayne-campus-10-per-session-for-instruction-4/
END:VEVENT
BEGIN:VEVENT
DTSTART;TZID=America/Detroit:20260402T183000
DTEND;TZID=America/Detroit:20260402T200000
DTSTAMP:20260421T133348
CREATED:20260306T180614Z
LAST-MODIFIED:20260306T180641Z
UID:8295-1775154600-1775160000@newhopechurchwayne.com
SUMMARY:New Hope Academy Choir Rehearsal Wayne Campus
DESCRIPTION:
URL:https://newhopechurchwayne.com/event/new-hope-academy-choir-rehearsal-wayne-campus-7/
END:VEVENT
BEGIN:VEVENT
DTSTART;TZID=America/Detroit:20260403T080000
DTEND;TZID=America/Detroit:20260403T083000
DTSTAMP:20260421T133348
CREATED:20260327T231608Z
LAST-MODIFIED:20260327T231641Z
UID:8569-1775203200-1775205000@newhopechurchwayne.com
SUMMARY:Read Through the Bible in a Year with Pastor 1 Kings 9-11
DESCRIPTION:
URL:https://newhopechurchwayne.com/event/read-through-the-bible-in-a-year-with-pastor-1-kings-9-11/
END:VEVENT
BEGIN:VEVENT
DTSTART;TZID=America/Detroit:20260403T100000
DTEND;TZID=America/Detroit:20260403T180000
DTSTAMP:20260421T133348
CREATED:20260327T234050Z
LAST-MODIFIED:20260327T234053Z
UID:8589-1775210400-1775239200@newhopechurchwayne.com
SUMMARY:New Hope Church Neighborhood Wellness Center Free Health Services Room 118\, Wayne Campus
DESCRIPTION:
URL:https://newhopechurchwayne.com/event/new-hope-church-neighborhood-wellness-center-free-health-services-room-118-wayne-campus-11/
END:VEVENT
BEGIN:VEVENT
DTSTART;TZID=America/Detroit:20260403T120000
DTEND;TZID=America/Detroit:20260403T121500
DTSTAMP:20260421T133348
CREATED:20260326T182158Z
LAST-MODIFIED:20260326T182204Z
UID:8544-1775217600-1775218500@newhopechurchwayne.com
SUMMARY:Good Friday Prayer Line Prayers & Meditation via the Prayer Line. Theme: Risen! "Colossians 3:1 Call 520-525-8990
DESCRIPTION:
URL:https://newhopechurchwayne.com/event/good-friday-prayer-line-prayers-meditation-via-the-prayer-line-theme-risen-colossians-31-call-520-525-8990/
END:VEVENT
BEGIN:VEVENT
DTSTART;TZID=America/Detroit:20260404T080000
DTEND;TZID=America/Detroit:20260404T083000
DTSTAMP:20260421T133348
CREATED:20260327T231745Z
LAST-MODIFIED:20260327T231817Z
UID:8571-1775289600-1775291400@newhopechurchwayne.com
SUMMARY:Read Through the Bible in a Year with Pastor 1 Kings 12-16
DESCRIPTION:
URL:https://newhopechurchwayne.com/event/read-through-the-bible-in-a-year-with-pastor-1-kings/
END:VEVENT
BEGIN:VEVENT
DTSTART;TZID=America/Detroit:20260404T093000
DTEND;TZID=America/Detroit:20260404T110000
DTSTAMP:20260421T133348
CREATED:20260220T205120Z
LAST-MODIFIED:20260306T173603Z
UID:8087-1775295000-1775300400@newhopechurchwayne.com
SUMMARY:Children & Young Adult Praise Dance Practice Children\, Adult\, and Young Adult dancers will meet Saturdays Wayne Campus. Contact Min. Delores Johnson (734) 469-0276
DESCRIPTION:
URL:https://newhopechurchwayne.com/event/children-young-adult-praise-dance-practice-children-adult-and-young-adult-dancers-will-meet-saturdays-wayne-campus-contact-min-delores-johnson-734-469-0276-2/
END:VEVENT
BEGIN:VEVENT
DTSTART;TZID=America/Detroit:20260404T100000
DTEND;TZID=America/Detroit:20260404T123000
DTSTAMP:20260421T133348
CREATED:20260302T192418Z
LAST-MODIFIED:20260326T182838Z
UID:8236-1775296800-1775305800@newhopechurchwayne.com
SUMMARY:Easter Bunny Luncheon-All children/youth are invited for lunch\, egg hunt\, pictures and fun\, Wayne Campus
DESCRIPTION:
URL:https://newhopechurchwayne.com/event/bunny-brunch-wayne-campus/
END:VEVENT
BEGIN:VEVENT
DTSTART;TZID=America/Detroit:20260405T080000
DTEND;TZID=America/Detroit:20260405T093000
DTSTAMP:20260421T133348
CREATED:20260327T232531Z
LAST-MODIFIED:20260327T232534Z
UID:8574-1775376000-1775381400@newhopechurchwayne.com
SUMMARY:Sunday School Lesson Resurrection: The Future Hope\,1 Corinthians 15:13-20. 51-58
DESCRIPTION:
URL:https://newhopechurchwayne.com/event/sunday-school-lesson-resurrection-the-future-hope1-corinthians-1513-20-51-58/
END:VEVENT
BEGIN:VEVENT
DTSTART;TZID=America/Detroit:20260405T080000
DTEND;TZID=America/Detroit:20260405T110000
DTSTAMP:20260421T133348
CREATED:20260306T150317Z
LAST-MODIFIED:20260306T150322Z
UID:8263-1775376000-1775386800@newhopechurchwayne.com
SUMMARY:Resurrection Sunday (Easter) Sunday\, April 5th\, All worships\, Wayne & Taylor Campuses
DESCRIPTION:
URL:https://newhopechurchwayne.com/event/resurrection-sunday-easter-sunday-april-5th-all-worships-wayne-taylor-campuses/
END:VEVENT
BEGIN:VEVENT
DTSTART;TZID=America/Detroit:20260405T080000
DTEND;TZID=America/Detroit:20260405T110000
DTSTAMP:20260421T133348
CREATED:20260402T191251Z
LAST-MODIFIED:20260402T191255Z
UID:8624-1775376000-1775386800@newhopechurchwayne.com
SUMMARY:Sermon Pastor Virgil Humes The Heart of Easter: Why It’s Celebrated”1 Corinthians 15:3-5\, 9-10a
DESCRIPTION:
URL:https://newhopechurchwayne.com/event/sermon-pastor-virgil-humes-the-heart-of-easter-why-its-celebrated1-corinthians-153-5-9-10a/
END:VEVENT
BEGIN:VEVENT
DTSTART;TZID=America/Detroit:20260405T080000
DTEND;TZID=America/Detroit:20260405T110000
DTSTAMP:20260421T133348
CREATED:20260402T195205Z
LAST-MODIFIED:20260402T195209Z
UID:8642-1775376000-1775386800@newhopechurchwayne.com
SUMMARY:New Members Orientation Classes - Easter Sunday-No class today during Sunday School hour at both campuses.
DESCRIPTION:
URL:https://newhopechurchwayne.com/event/new-members-orientation-classes-easter-sunday-no-class-today-during-sunday-school-hour-at-both-campuses/
END:VEVENT
BEGIN:VEVENT
DTSTART;TZID=America/Detroit:20260405T080000
DTEND;TZID=America/Detroit:20260405T113000
DTSTAMP:20260421T133348
CREATED:20260402T191726Z
LAST-MODIFIED:20260402T193213Z
UID:8628-1775376000-1775388600@newhopechurchwayne.com
SUMMARY:Today is Holy Communion/Lord’s Supper
DESCRIPTION:
URL:https://newhopechurchwayne.com/event/today-is-holy-communion-lords-supper/
END:VEVENT
END:VCALENDAR