BEGIN:VCALENDAR
VERSION:2.0
PRODID:-//NEW HOPE BAPTIST CHURCH - ECPv6.15.18//NONSGML v1.0//EN
CALSCALE:GREGORIAN
METHOD:PUBLISH
X-ORIGINAL-URL:https://newhopechurchwayne.com
X-WR-CALDESC:Events for NEW HOPE BAPTIST CHURCH
REFRESH-INTERVAL;VALUE=DURATION:PT1H
X-Robots-Tag:noindex
X-PUBLISHED-TTL:PT1H
BEGIN:VTIMEZONE
TZID:America/Detroit
BEGIN:DAYLIGHT
TZOFFSETFROM:-0500
TZOFFSETTO:-0400
TZNAME:EDT
DTSTART:20250309T070000
END:DAYLIGHT
BEGIN:STANDARD
TZOFFSETFROM:-0400
TZOFFSETTO:-0500
TZNAME:EST
DTSTART:20251102T060000
END:STANDARD
BEGIN:DAYLIGHT
TZOFFSETFROM:-0500
TZOFFSETTO:-0400
TZNAME:EDT
DTSTART:20260308T070000
END:DAYLIGHT
BEGIN:STANDARD
TZOFFSETFROM:-0400
TZOFFSETTO:-0500
TZNAME:EST
DTSTART:20261101T060000
END:STANDARD
BEGIN:DAYLIGHT
TZOFFSETFROM:-0500
TZOFFSETTO:-0400
TZNAME:EDT
DTSTART:20270314T070000
END:DAYLIGHT
BEGIN:STANDARD
TZOFFSETFROM:-0400
TZOFFSETTO:-0500
TZNAME:EST
DTSTART:20271107T060000
END:STANDARD
END:VTIMEZONE
BEGIN:VEVENT
DTSTART;TZID=America/Detroit:20260407T100000
DTEND;TZID=America/Detroit:20260407T180000
DTSTAMP:20260421T165630
CREATED:20260403T201840Z
LAST-MODIFIED:20260403T201848Z
UID:8672-1775556000-1775584800@newhopechurchwayne.com
SUMMARY:New Hope Church Neighborhood Wellness Center
DESCRIPTION:
URL:https://newhopechurchwayne.com/event/new-hope-church-neighborhood-wellness-center-62/
END:VEVENT
BEGIN:VEVENT
DTSTART;TZID=America/Detroit:20260407T173000
DTEND;TZID=America/Detroit:20260407T180000
DTSTAMP:20260421T165630
CREATED:20260402T203052Z
LAST-MODIFIED:20260402T203059Z
UID:8646-1775583000-1775584800@newhopechurchwayne.com
SUMMARY:Spring Discipleship 2 Bible Study (Tuesdays\, In-Person) - Wayne Campus (free) Dinner ------Books available at Welcome Center for purchase.
DESCRIPTION:
URL:https://newhopechurchwayne.com/event/spring-discipleship-2-bible-study-tuesdays-in-person-wayne-campus-free-dinner-books-available-at-welcome-center-for-purchase/
END:VEVENT
BEGIN:VEVENT
DTSTART;TZID=America/Detroit:20260407T180000
DTEND;TZID=America/Detroit:20260407T193000
DTSTAMP:20260421T165630
CREATED:20260218T193140Z
LAST-MODIFIED:20260218T193144Z
UID:8005-1775584800-1775590200@newhopechurchwayne.com
SUMMARY:GriefShare-Contact: Jackie Morris-newhopewayne@gmail.com-734-728-2180 Register-griefshare.org/findagroup
DESCRIPTION:
URL:https://newhopechurchwayne.com/event/griefshare-contact-jackie-morris-newhopewaynegmail-com-734-728-2180-register-griefshare-org-findagroup-5/
END:VEVENT
BEGIN:VEVENT
DTSTART;TZID=America/Detroit:20260407T180000
DTEND;TZID=America/Detroit:20260407T193000
DTSTAMP:20260421T165630
CREATED:20260402T202541Z
LAST-MODIFIED:20260402T202549Z
UID:8644-1775584800-1775590200@newhopechurchwayne.com
SUMMARY:Spring Discipleship 2 Bible Study (Tuesdays\, In-Person)-Wayne Campus Every Tuesday. Classes for adults\, youth and children. Books available at Welcome Center for purchase.
DESCRIPTION:
URL:https://newhopechurchwayne.com/event/spring-discipleship-2-bible-study-tuesdays-in-person-wayne-campus-every-tuesday-classes-for-adults-youth-and-children-books-available-at-welcome-center-for-purchase/
END:VEVENT
BEGIN:VEVENT
DTSTART;TZID=America/Detroit:20260408T060000
DTEND;TZID=America/Detroit:20260408T061500
DTSTAMP:20260421T165630
CREATED:20260326T194240Z
LAST-MODIFIED:20260326T194243Z
UID:8554-1775628000-1775628900@newhopechurchwayne.com
SUMMARY:New Hope Prayer Line Join us for prayer each Wednesday morning by calling 520-525-8990.
DESCRIPTION:
URL:https://newhopechurchwayne.com/event/new-hope-prayer-line-join-us-for-prayer-each-wednesday-morning-by-calling-520-525-8990-16/
END:VEVENT
BEGIN:VEVENT
DTSTART;TZID=America/Detroit:20260408T090000
DTEND;TZID=America/Detroit:20260408T093000
DTSTAMP:20260421T165630
CREATED:20260403T210448Z
LAST-MODIFIED:20260403T210453Z
UID:8705-1775638800-1775640600@newhopechurchwayne.com
SUMMARY:Read Through the Bible in a Year with Pastor-2 Kings 1-3
DESCRIPTION:
URL:https://newhopechurchwayne.com/event/read-through-the-bible-in-a-year-with-pastor-2-kings-1-3/
END:VEVENT
BEGIN:VEVENT
DTSTART;TZID=America/Detroit:20260408T110000
DTEND;TZID=America/Detroit:20260408T160000
DTSTAMP:20260421T165630
CREATED:20260403T201337Z
LAST-MODIFIED:20260403T201344Z
UID:8667-1775646000-1775664000@newhopechurchwayne.com
SUMMARY:New Hope Church Office Hours-Wayne Campus
DESCRIPTION:
URL:https://newhopechurchwayne.com/event/new-hope-church-office-hours-wayne-campus-76/
END:VEVENT
BEGIN:VEVENT
DTSTART;TZID=America/Detroit:20260408T183000
DTEND;TZID=America/Detroit:20260408T184500
DTSTAMP:20260421T165630
CREATED:20260326T194615Z
LAST-MODIFIED:20260326T194618Z
UID:8556-1775673000-1775673900@newhopechurchwayne.com
SUMMARY:New Hope Prayer Line Join us for prayer each Wednesday evening by calling 520-525-8990.
DESCRIPTION:
URL:https://newhopechurchwayne.com/event/new-hope-prayer-line-join-us-for-prayer-each-wednesday-evening-by-calling-520-525-8990-4/
END:VEVENT
BEGIN:VEVENT
DTSTART;TZID=America/Detroit:20260409T083000
DTEND;TZID=America/Detroit:20260409T093000
DTSTAMP:20260421T165630
CREATED:20260403T210715Z
LAST-MODIFIED:20260403T210719Z
UID:8707-1775723400-1775727000@newhopechurchwayne.com
SUMMARY:Read Through the Bible in a Year with Pastor-2 Kings 4-8
DESCRIPTION:
URL:https://newhopechurchwayne.com/event/read-through-the-bible-in-a-year-with-pastor-2-kings-4-8/
END:VEVENT
BEGIN:VEVENT
DTSTART;TZID=America/Detroit:20260409T090000
DTEND;TZID=America/Detroit:20260409T160000
DTSTAMP:20260421T165630
CREATED:20260403T201458Z
LAST-MODIFIED:20260403T201504Z
UID:8669-1775725200-1775750400@newhopechurchwayne.com
SUMMARY:New Hope Church Office Hours-Wayne Campus
DESCRIPTION:
URL:https://newhopechurchwayne.com/event/new-hope-church-office-hours-wayne-campus-77/
END:VEVENT
BEGIN:VEVENT
DTSTART;TZID=America/Detroit:20260409T130000
DTEND;TZID=America/Detroit:20260409T150000
DTSTAMP:20260421T165630
CREATED:20260403T203824Z
LAST-MODIFIED:20260403T203827Z
UID:8685-1775739600-1775746800@newhopechurchwayne.com
SUMMARY:Hustle Dance Class Resumes-Wayne Campus-$10 per session for instruction.
DESCRIPTION:
URL:https://newhopechurchwayne.com/event/hustle-dance-class-resumes-wayne-campus-10-per-session-for-instruction-5/
END:VEVENT
BEGIN:VEVENT
DTSTART;TZID=America/Detroit:20260409T183000
DTEND;TZID=America/Detroit:20260409T203000
DTSTAMP:20260421T165630
CREATED:20260403T195348Z
LAST-MODIFIED:20260403T195353Z
UID:8656-1775759400-1775766600@newhopechurchwayne.com
SUMMARY:New Hope Academy Choir Rehearsal Wayne Campus
DESCRIPTION:
URL:https://newhopechurchwayne.com/event/new-hope-academy-choir-rehearsal-wayne-campus-8/
END:VEVENT
BEGIN:VEVENT
DTSTART;TZID=America/Detroit:20260410T083000
DTEND;TZID=America/Detroit:20260410T093000
DTSTAMP:20260421T165630
CREATED:20260403T210829Z
LAST-MODIFIED:20260403T210833Z
UID:8709-1775809800-1775813400@newhopechurchwayne.com
SUMMARY:Read Through the Bible in a Year with Pastor-2 Kings 9-12
DESCRIPTION:
URL:https://newhopechurchwayne.com/event/read-through-the-bible-in-a-year-with-pastor-2-kings-9-12/
END:VEVENT
BEGIN:VEVENT
DTSTART;TZID=America/Detroit:20260410T100000
DTEND;TZID=America/Detroit:20260410T180000
DTSTAMP:20260421T165630
CREATED:20260403T201946Z
LAST-MODIFIED:20260403T201953Z
UID:8674-1775815200-1775844000@newhopechurchwayne.com
SUMMARY:New Hope Church Neighborhood Wellness Center
DESCRIPTION:
URL:https://newhopechurchwayne.com/event/new-hope-church-neighborhood-wellness-center-63/
END:VEVENT
BEGIN:VEVENT
DTSTART;TZID=America/Detroit:20260411T080000
DTEND;TZID=America/Detroit:20260411T093000
DTSTAMP:20260421T165630
CREATED:20260403T211036Z
LAST-MODIFIED:20260403T211040Z
UID:8711-1775894400-1775899800@newhopechurchwayne.com
SUMMARY:Read Through the Bible in a Year with Pastor-2 Kings 13-17
DESCRIPTION:
URL:https://newhopechurchwayne.com/event/read-through-the-bible-in-a-year-with-pastor-2-kings-13-17/
END:VEVENT
BEGIN:VEVENT
DTSTART;TZID=America/Detroit:20260411T093000
DTEND;TZID=America/Detroit:20260411T103000
DTSTAMP:20260421T165630
CREATED:20260403T194855Z
LAST-MODIFIED:20260403T194859Z
UID:8654-1775899800-1775903400@newhopechurchwayne.com
SUMMARY:Children & Young Adult Praise Dance Practice Children\, Adult\, and Young Adult dancers will meet Saturdays Wayne Campus. Contact Min. Delores Johnson (734) 469-0276
DESCRIPTION:
URL:https://newhopechurchwayne.com/event/children-young-adult-praise-dance-practice-children-adult-and-young-adult-dancers-will-meet-saturdays-wayne-campus-contact-min-delores-johnson-734-469-0276-6/
END:VEVENT
BEGIN:VEVENT
DTSTART;TZID=America/Detroit:20260411T100000
DTEND;TZID=America/Detroit:20260411T120000
DTSTAMP:20260421T165630
CREATED:20260326T193806Z
LAST-MODIFIED:20260326T193808Z
UID:8552-1775901600-1775908800@newhopechurchwayne.com
SUMMARY:Computer Workshop The Computer 102 Workshop sponsored by the Sr. Ministry\, facilitated by the Media Ministry\, Wayne Campus Lunch served\, all are invited
DESCRIPTION:.
URL:https://newhopechurchwayne.com/event/computer-workshop-the-computer-102-workshop-sponsored-by-the-sr-ministry-facilitated-by-the-media-ministry-wayne-campus-lunch-served-all-are-invited/
END:VEVENT
BEGIN:VEVENT
DTSTART;TZID=America/Detroit:20260411T183000
DTEND;TZID=America/Detroit:20260411T210000
DTSTAMP:20260421T165630
CREATED:20260402T175355Z
LAST-MODIFIED:20260402T175406Z
UID:8615-1775932200-1775941200@newhopechurchwayne.com
SUMMARY:COUPLE MINISTRY-COMEDY CLUB @ VILLIAGE THEATHER 50400 CHERRY HILL CANTON\, MI.CONTACT ALEX OR  OLA PUGH (734) 756-7866
DESCRIPTION:
URL:https://newhopechurchwayne.com/event/couple-ministry-comedy-club-villiage-theather-50400-cherry-hill-canton-mi-contact-alex-or-ola-pugh-734-756-7866/
END:VEVENT
BEGIN:VEVENT
DTSTART;TZID=America/Detroit:20260412T080000
DTEND;TZID=America/Detroit:20260412T083000
DTSTAMP:20260421T165630
CREATED:20260410T211207Z
LAST-MODIFIED:20260410T211209Z
UID:8734-1775980800-1775982600@newhopechurchwayne.com
SUMMARY:College Graduates Information All college graduates please complete the Graduate Form in the lobby and submit to the Welcome Center or put in the Tithes and Offering Storehouse.
DESCRIPTION:
URL:https://newhopechurchwayne.com/event/college-graduates-information-all-college-graduates-please-complete-the-graduate-form-in-the-lobby-and-submit-to-the-welcome-center-or-put-in-the-tithes-and-offering-storehouse/
END:VEVENT
BEGIN:VEVENT
DTSTART;TZID=America/Detroit:20260412T080000
DTEND;TZID=America/Detroit:20260412T083000
DTSTAMP:20260421T165630
CREATED:20260410T212359Z
LAST-MODIFIED:20260410T212403Z
UID:8740-1775980800-1775982600@newhopechurchwayne.com
SUMMARY:Read Through the Bible in a Year with Pastor 2 Kings 18-21
DESCRIPTION:
URL:https://newhopechurchwayne.com/event/read-through-the-bible-in-a-year-with-pastor-2-kings-18-21/
END:VEVENT
BEGIN:VEVENT
DTSTART;TZID=America/Detroit:20260412T080000
DTEND;TZID=America/Detroit:20260412T090000
DTSTAMP:20260421T165630
CREATED:20260410T205138Z
LAST-MODIFIED:20260410T205144Z
UID:8726-1775980800-1775984400@newhopechurchwayne.com
SUMMARY:Sermon-Rev. George Handy
DESCRIPTION:
URL:https://newhopechurchwayne.com/event/sermon-rev-george-handy/
END:VEVENT
BEGIN:VEVENT
DTSTART;TZID=America/Detroit:20260412T080000
DTEND;TZID=America/Detroit:20260412T093000
DTSTAMP:20260421T165630
CREATED:20260402T194614Z
LAST-MODIFIED:20260402T194620Z
UID:8636-1775980800-1775986200@newhopechurchwayne.com
SUMMARY:New Members Orientation Classes - Session 2: Church Covenant/History
DESCRIPTION:
URL:https://newhopechurchwayne.com/event/new-members-orientation-classes-session-2-church-covenant-history/
END:VEVENT
BEGIN:VEVENT
DTSTART;TZID=America/Detroit:20260412T080000
DTEND;TZID=America/Detroit:20260412T093000
DTSTAMP:20260421T165630
CREATED:20260403T200557Z
LAST-MODIFIED:20260403T200600Z
UID:8660-1775980800-1775986200@newhopechurchwayne.com
SUMMARY:Sunday School Lesson Authority: Belonging to God\, Mark 12:17\, Romans 13:1\, 6-8; 1 Peter 2:13-17
DESCRIPTION:
URL:https://newhopechurchwayne.com/event/sunday-school-lesson-authority-belonging-to-god-mark-1217-romans-131-6-8-1-peter-213-17/
END:VEVENT
BEGIN:VEVENT
DTSTART;TZID=America/Detroit:20260412T083000
DTEND;TZID=America/Detroit:20260412T143000
DTSTAMP:20260421T165630
CREATED:20260403T202100Z
LAST-MODIFIED:20260403T202107Z
UID:8676-1775982600-1776004200@newhopechurchwayne.com
SUMMARY:New Hope Church Neighborhood Wellness Center
DESCRIPTION:
URL:https://newhopechurchwayne.com/event/new-hope-church-neighborhood-wellness-center-64/
END:VEVENT
BEGIN:VEVENT
DTSTART;TZID=America/Detroit:20260412T093000
DTEND;TZID=America/Detroit:20260412T103000
DTSTAMP:20260421T165630
CREATED:20260410T205356Z
LAST-MODIFIED:20260410T205358Z
UID:8728-1775986200-1775989800@newhopechurchwayne.com
SUMMARY:Sermon-Rev. Chris Mattic
DESCRIPTION:
URL:https://newhopechurchwayne.com/event/sermon-rev-chris-mattic/
END:VEVENT
BEGIN:VEVENT
DTSTART;TZID=America/Detroit:20260412T110000
DTEND;TZID=America/Detroit:20260412T123000
DTSTAMP:20260421T165630
CREATED:20260402T191521Z
LAST-MODIFIED:20260402T191528Z
UID:8626-1775991600-1775997000@newhopechurchwayne.com
SUMMARY:Trial Sermon of Mika Green-Please pray for the Lord’s anointing upon Mika.
DESCRIPTION:
URL:https://newhopechurchwayne.com/event/trial-sermon-of-mika-green-please-pray-for-the-lords-anointing-upon-mika/
END:VEVENT
BEGIN:VEVENT
DTSTART;TZID=America/Detroit:20260413T080000
DTEND;TZID=America/Detroit:20260413T083000
DTSTAMP:20260421T165630
CREATED:20260410T212629Z
LAST-MODIFIED:20260410T212632Z
UID:8742-1776067200-1776069000@newhopechurchwayne.com
SUMMARY:Read Through the Bible in a Year with Pastor 2 Kings 22-25
DESCRIPTION:
URL:https://newhopechurchwayne.com/event/read-through-the-bible-in-a-year-with-pastor-2-kings-22-25/
END:VEVENT
BEGIN:VEVENT
DTSTART;TZID=America/Detroit:20260413T090000
DTEND;TZID=America/Detroit:20260413T160000
DTSTAMP:20260421T165630
CREATED:20260410T215516Z
LAST-MODIFIED:20260410T215520Z
UID:8766-1776070800-1776096000@newhopechurchwayne.com
SUMMARY:New Hope Church Office Hours-Wayne Campus
DESCRIPTION:
URL:https://newhopechurchwayne.com/event/new-hope-church-office-hours-wayne-campus-78/
END:VEVENT
BEGIN:VEVENT
DTSTART;TZID=America/Detroit:20260413T180000
DTEND;TZID=America/Detroit:20260413T190000
DTSTAMP:20260421T165630
CREATED:20260403T194125Z
LAST-MODIFIED:20260403T194130Z
UID:8649-1776103200-1776106800@newhopechurchwayne.com
SUMMARY:Monday Night (Virtual) Bible Study Meeting ID:886 6567 1151 Passcode: 247156 Phone: 312-626-6799-Or use church app under Bible Study tab.
DESCRIPTION:– \n\n\n\n \n\n\n\n–
URL:https://newhopechurchwayne.com/event/monday-night-virtual-bible-study-meeting-id886-6567-1151-passcode-247156-phone-312-626-6799-or-use-church-app-under-bible-study-tab/
END:VEVENT
BEGIN:VEVENT
DTSTART;TZID=America/Detroit:20260414T080000
DTEND;TZID=America/Detroit:20260414T083000
DTSTAMP:20260421T165630
CREATED:20260410T212754Z
LAST-MODIFIED:20260410T212757Z
UID:8744-1776153600-1776155400@newhopechurchwayne.com
SUMMARY:Read Through the Bible in a Year with Pastor 2 Kings 22-25
DESCRIPTION:
URL:https://newhopechurchwayne.com/event/read-through-the-bible-in-a-year-with-pastor-2-kings-22-25-2/
END:VEVENT
END:VCALENDAR