BEGIN:VCALENDAR
VERSION:2.0
PRODID:-//NEW HOPE BAPTIST CHURCH - ECPv6.15.18//NONSGML v1.0//EN
CALSCALE:GREGORIAN
METHOD:PUBLISH
X-ORIGINAL-URL:https://newhopechurchwayne.com
X-WR-CALDESC:Events for NEW HOPE BAPTIST CHURCH
REFRESH-INTERVAL;VALUE=DURATION:PT1H
X-Robots-Tag:noindex
X-PUBLISHED-TTL:PT1H
BEGIN:VTIMEZONE
TZID:America/Detroit
BEGIN:DAYLIGHT
TZOFFSETFROM:-0500
TZOFFSETTO:-0400
TZNAME:EDT
DTSTART:20250309T070000
END:DAYLIGHT
BEGIN:STANDARD
TZOFFSETFROM:-0400
TZOFFSETTO:-0500
TZNAME:EST
DTSTART:20251102T060000
END:STANDARD
BEGIN:DAYLIGHT
TZOFFSETFROM:-0500
TZOFFSETTO:-0400
TZNAME:EDT
DTSTART:20260308T070000
END:DAYLIGHT
BEGIN:STANDARD
TZOFFSETFROM:-0400
TZOFFSETTO:-0500
TZNAME:EST
DTSTART:20261101T060000
END:STANDARD
BEGIN:DAYLIGHT
TZOFFSETFROM:-0500
TZOFFSETTO:-0400
TZNAME:EDT
DTSTART:20270314T070000
END:DAYLIGHT
BEGIN:STANDARD
TZOFFSETFROM:-0400
TZOFFSETTO:-0500
TZNAME:EST
DTSTART:20271107T060000
END:STANDARD
END:VTIMEZONE
BEGIN:VEVENT
DTSTART;TZID=America/Detroit:20260423T130000
DTEND;TZID=America/Detroit:20260423T150000
DTSTAMP:20260419T144102
CREATED:20260403T204149Z
LAST-MODIFIED:20260403T204154Z
UID:8689-1776949200-1776956400@newhopechurchwayne.com
SUMMARY:Hustle Dance Class Resumes-Wayne Campus-$10 per session for instruction.
DESCRIPTION:
URL:https://newhopechurchwayne.com/event/hustle-dance-class-resumes-wayne-campus-10-per-session-for-instruction-7/
END:VEVENT
BEGIN:VEVENT
DTSTART;TZID=America/Detroit:20260424T080000
DTEND;TZID=America/Detroit:20260424T080000
DTSTAMP:20260419T144102
CREATED:20260417T152730Z
LAST-MODIFIED:20260417T152733Z
UID:8823-1777017600-1777017600@newhopechurchwayne.com
SUMMARY:Read Through the Bible in a Year with Pastor 2 Chronicles 13-16
DESCRIPTION:
URL:https://newhopechurchwayne.com/event/read-through-the-bible-in-a-year-with-pastor-2-chronicles-13-16/
END:VEVENT
BEGIN:VEVENT
DTSTART;TZID=America/Detroit:20260425T080000
DTEND;TZID=America/Detroit:20260425T090000
DTSTAMP:20260419T144102
CREATED:20260417T152846Z
LAST-MODIFIED:20260417T152848Z
UID:8825-1777104000-1777107600@newhopechurchwayne.com
SUMMARY:Read Through the Bible in a Year with Pastor 2 Chronicles 17-20
DESCRIPTION:
URL:https://newhopechurchwayne.com/event/read-through-the-bible-in-a-year-with-pastor-2-chronicles-17-20/
END:VEVENT
BEGIN:VEVENT
DTSTART;TZID=America/Detroit:20260425T090000
DTEND;TZID=America/Detroit:20260425T110000
DTSTAMP:20260419T144102
CREATED:20260410T214400Z
LAST-MODIFIED:20260417T153336Z
UID:8760-1777107600-1777114800@newhopechurchwayne.com
SUMMARY:Children & Young Adult Praise Dance Practice Children\, Adult\, and Young Adult dancers will meet Saturdays Wayne Campus. Contact Min. Delores Johnson (734) 469-0276
DESCRIPTION:
URL:https://newhopechurchwayne.com/event/children-young-adult-praise-dance-practice-children-adult-and-young-adult-dancers-will-meet-saturdays-wayne-campus-contact-min-delores-johnson-734-469-0276-7/
END:VEVENT
BEGIN:VEVENT
DTSTART;TZID=America/Detroit:20260425T100000
DTEND;TZID=America/Detroit:20260425T120000
DTSTAMP:20260419T144102
CREATED:20260326T185008Z
LAST-MODIFIED:20260326T185013Z
UID:8550-1777111200-1777118400@newhopechurchwayne.com
SUMMARY:Free Men's Prayer Breakfast Theme: Building Strong Men\, Psalm 127:1 All males are encouraged to attend Wayne Fellowship Hall at 10:00 a.m. Pastor John Hearn\, Christian Faith Ministries\, guest speaker.
DESCRIPTION:
URL:https://newhopechurchwayne.com/event/free-mens-prayer-breakfast-theme-building-strong-men-psalm-1271-all-males-are-encouraged-to-attend-wayne-fellowship-hall-at-1000-a-m-pastor-john-hearn-christian-faith-ministries-guest-speaker/
END:VEVENT
BEGIN:VEVENT
DTSTART;TZID=America/Detroit:20260426T080000
DTEND;TZID=America/Detroit:20260426T093000
DTSTAMP:20260419T144102
CREATED:20260402T195007Z
LAST-MODIFIED:20260402T195013Z
UID:8640-1777190400-1777195800@newhopechurchwayne.com
SUMMARY:New Members Orientation Classes-Session 4: What Church Membership Means?
DESCRIPTION:
URL:https://newhopechurchwayne.com/event/new-members-orientation-classes-session-4-what-church-membership-means/
END:VEVENT
BEGIN:VEVENT
DTSTART;TZID=America/Detroit:20260426T083000
DTEND;TZID=America/Detroit:20260426T093000
DTSTAMP:20260419T144102
CREATED:20260417T154745Z
LAST-MODIFIED:20260417T154748Z
UID:8834-1777192200-1777195800@newhopechurchwayne.com
SUMMARY:Sunday School Lesson for Sundays Family: Distinct and Obedient\, "Family: Distinct and Obedient\," Deuteronomy 6:3-9; Matthew 19:3-9
DESCRIPTION:
URL:https://newhopechurchwayne.com/event/sunday-school-lesson-for-sundays-family-distinct-and-obedient-family-distinct-and-obedient-deuteronomy-63-9-matthew-193-9/
END:VEVENT
BEGIN:VEVENT
DTSTART;TZID=America/Detroit:20260427T180000
DTEND;TZID=America/Detroit:20260427T190000
DTSTAMP:20260419T144102
CREATED:20260417T153127Z
LAST-MODIFIED:20260417T153129Z
UID:8827-1777312800-1777316400@newhopechurchwayne.com
SUMMARY:Monday Night (Virtual) Bible Study Meeting ID:886 6567 1151 Passcode: 247156 Phone: 312-626-6799-Or use church app under Bible Study tab.
DESCRIPTION:
URL:https://newhopechurchwayne.com/event/monday-night-virtual-bible-study-meeting-id886-6567-1151-passcode-247156-phone-312-626-6799-or-use-church-app-under-bible-study-tab-3/
END:VEVENT
BEGIN:VEVENT
DTSTART;TZID=America/Detroit:20260428T173000
DTEND;TZID=America/Detroit:20260428T180000
DTSTAMP:20260419T144102
CREATED:20260417T153652Z
LAST-MODIFIED:20260417T153655Z
UID:8829-1777397400-1777399200@newhopechurchwayne.com
SUMMARY:Spring Discipleship 2 Bible Study (Tuesdays\, In-Person)-Wayne Campus 5:30pm Dinner Free
DESCRIPTION:
URL:https://newhopechurchwayne.com/event/spring-discipleship-2-bible-study-tuesdays-in-person-wayne-campus-530pm-dinner-free-2/
END:VEVENT
BEGIN:VEVENT
DTSTART;TZID=America/Detroit:20260428T180000
DTEND;TZID=America/Detroit:20260428T193000
DTSTAMP:20260419T144102
CREATED:20260417T154029Z
LAST-MODIFIED:20260417T154032Z
UID:8832-1777399200-1777404600@newhopechurchwayne.com
SUMMARY:Spring Discipleship 2 Bible Study (Tuesdays\, In-Person)-Wayne Campus Every Tuesday. Classes for adults\, youth and children. Books available at Welcome Center for purchase.
DESCRIPTION:
URL:https://newhopechurchwayne.com/event/spring-discipleship-2-bible-study-tuesdays-in-person-wayne-campus-every-tuesday-classes-for-adults-youth-and-children-books-available-at-welcome-center-for-purchase-3/
END:VEVENT
BEGIN:VEVENT
DTSTART;TZID=America/Detroit:20260428T180000
DTEND;TZID=America/Detroit:20260428T203000
DTSTAMP:20260419T144102
CREATED:20260218T195329Z
LAST-MODIFIED:20260218T195332Z
UID:8015-1777399200-1777408200@newhopechurchwayne.com
SUMMARY:GriefShare-Contact: Jackie Morris-newhopewayne@gmail.com-734-728-2180 Register-griefshare.org/findagroup
DESCRIPTION:
URL:https://newhopechurchwayne.com/event/griefshare-contact-jackie-morris-newhopewaynegmail-com-734-728-2180-register-griefshare-org-findagroup-10/
END:VEVENT
BEGIN:VEVENT
DTSTART;TZID=America/Detroit:20260429T110000
DTEND;TZID=America/Detroit:20260429T130000
DTSTAMP:20260419T144102
CREATED:20260302T182032Z
LAST-MODIFIED:20260410T221638Z
UID:8232-1777460400-1777467600@newhopechurchwayne.com
SUMMARY:Senior Ministry-Paint & Tea\, w/Lunch-Wayne
DESCRIPTION:
URL:https://newhopechurchwayne.com/event/paint-and-tea-fellowship/
END:VEVENT
BEGIN:VEVENT
DTSTART;TZID=America/Detroit:20260501T110000
DTEND;TZID=America/Detroit:20260501T140000
DTSTAMP:20260419T144102
CREATED:20260417T225529Z
LAST-MODIFIED:20260417T225533Z
UID:8838-1777633200-1777644000@newhopechurchwayne.com
SUMMARY:SENIOR MINISTRY--Older Americans Month\, Lunch and Learn Session
DESCRIPTION:
URL:https://newhopechurchwayne.com/event/senior-ministry-older-americans-month-lunch-and-learn-session/
END:VEVENT
BEGIN:VEVENT
DTSTART;TZID=America/Detroit:20260503T150000
DTEND;TZID=America/Detroit:20260503T180000
DTSTAMP:20260419T144102
CREATED:20260402T193509Z
LAST-MODIFIED:20260410T210116Z
UID:8630-1777820400-1777831200@newhopechurchwayne.com
SUMMARY:Lord’s Supper & Holy Communion Today Virtual Communion 3:00 p.m. & 6:00p.m. on the New Hope Church website and app.
DESCRIPTION:
URL:https://newhopechurchwayne.com/event/lords-supper-holy-communion-today-virtual-communion-300-p-m-600p-m-on-the-new-hope-church-website-and-app/
END:VEVENT
BEGIN:VEVENT
DTSTART;TZID=America/Detroit:20260505T180000
DTEND;TZID=America/Detroit:20260505T193000
DTSTAMP:20260419T144102
CREATED:20260218T201612Z
LAST-MODIFIED:20260218T202016Z
UID:8018-1778004000-1778009400@newhopechurchwayne.com
SUMMARY:GriefShare-Contact: Jackie Morris-newhopewayne@gmail.com-734-728-2180 Register-griefshare.org/findagroup
DESCRIPTION:
URL:https://newhopechurchwayne.com/event/griefshare-contact-jackie-morris-newhopewaynegmail-com-734-728-2180-register-griefshare-org-findagroup-11/
END:VEVENT
BEGIN:VEVENT
DTSTART;TZID=America/Detroit:20260509T110000
DTEND;TZID=America/Detroit:20260509T113000
DTSTAMP:20260419T144102
CREATED:20260328T001104Z
LAST-MODIFIED:20260328T001107Z
UID:8601-1778324400-1778326200@newhopechurchwayne.com
SUMMARY:S.O.U.L. 0N FIRE  Meeting
DESCRIPTION:
URL:https://newhopechurchwayne.com/event/s-o-u-l-0n-fire-meeting/
END:VEVENT
BEGIN:VEVENT
DTSTART;TZID=America/Detroit:20260509T120000
DTEND;TZID=America/Detroit:20260509T140000
DTSTAMP:20260419T144102
CREATED:20260328T001350Z
LAST-MODIFIED:20260328T001429Z
UID:8603-1778328000-1778335200@newhopechurchwayne.com
SUMMARY:S.O.U.L. 0N FIRE Drop off Hygiene supplies Samaritas Family Center 30600 Michigan Ave Westland MI 48186
DESCRIPTION:
URL:https://newhopechurchwayne.com/event/s-o-u-l-0n-fire-drop-off-hygiene-supplies-samaritas-family-center-30600-michigan-ave-westland-mi-48186/
END:VEVENT
BEGIN:VEVENT
DTSTART;TZID=America/Detroit:20260512T180000
DTEND;TZID=America/Detroit:20260512T203000
DTSTAMP:20260419T144102
CREATED:20260218T195059Z
LAST-MODIFIED:20260218T195104Z
UID:8013-1778608800-1778617800@newhopechurchwayne.com
SUMMARY:GriefShare-Contact: Jackie Morris-newhopewayne@gmail.com-734-728-2180 Register-griefshare.org/findagroup
DESCRIPTION:
URL:https://newhopechurchwayne.com/event/griefshare-contact-jackie-morris-newhopewaynegmail-com-734-728-2180-register-griefshare-org-findagroup-9/
END:VEVENT
BEGIN:VEVENT
DTSTART;TZID=America/Detroit:20260515T080000
DTEND;TZID=America/Detroit:20260515T090000
DTSTAMP:20260419T144102
CREATED:20260403T203112Z
LAST-MODIFIED:20260403T203117Z
UID:8678-1778832000-1778835600@newhopechurchwayne.com
SUMMARY:Save the Date-Women's- Weekend Theme: "Women Anointed For Such A Time As This" Esther 4:14b
DESCRIPTION:– \n\n\n\n \n\n\n\n’
URL:https://newhopechurchwayne.com/event/save-the-date-womens-weekend-theme-women-anointed-for-such-a-time-as-this-esther-414b/
END:VEVENT
BEGIN:VEVENT
DTSTART;TZID=America/Detroit:20260515T080000
DTEND;TZID=America/Detroit:20260515T160000
DTSTAMP:20260419T144102
CREATED:20260305T194810Z
LAST-MODIFIED:20260305T195746Z
UID:8253-1778832000-1778860800@newhopechurchwayne.com
SUMMARY:Our New Gymnasium Floor Prep and Installation is Underway at Taylor Campus Estimated date of completion of our High School size gym floor is about May 15th.
DESCRIPTION:
URL:https://newhopechurchwayne.com/event/our-new-gymnasium-floor-prep-and-installation-is-underway-at-taylor-campus/
END:VEVENT
BEGIN:VEVENT
DTSTART;TZID=America/Detroit:20260516T080000
DTEND;TZID=America/Detroit:20260516T083000
DTSTAMP:20260419T144102
CREATED:20260403T203233Z
LAST-MODIFIED:20260403T203236Z
UID:8680-1778918400-1778920200@newhopechurchwayne.com
SUMMARY:Save the Date-Women’s- Weekend Theme: “Women Anointed For Such A Time As This” Esther 4:14b
DESCRIPTION:
URL:https://newhopechurchwayne.com/event/save-the-date-womens-weekend-theme-women-anointed-for-such-a-time-as-this-esther-414b-2/
END:VEVENT
BEGIN:VEVENT
DTSTART;TZID=America/Detroit:20260516T100000
DTEND;TZID=America/Detroit:20260516T120000
DTSTAMP:20260419T144102
CREATED:20260417T225113Z
LAST-MODIFIED:20260417T225115Z
UID:8836-1778925600-1778932800@newhopechurchwayne.com
SUMMARY:COUPLE’S MINISTRY-MEETING TAYLOR CAMPUS
DESCRIPTION:
URL:https://newhopechurchwayne.com/event/couples-ministry-meeting-taylor-campus/
END:VEVENT
BEGIN:VEVENT
DTSTART;TZID=America/Detroit:20260517T080000
DTEND;TZID=America/Detroit:20260517T083000
DTSTAMP:20260419T144102
CREATED:20260403T203334Z
LAST-MODIFIED:20260403T203338Z
UID:8682-1779004800-1779006600@newhopechurchwayne.com
SUMMARY:Save the Date-Women’s- Weekend Theme: “Women Anointed For Such A Time As This” Esther 4:14b
DESCRIPTION:
URL:https://newhopechurchwayne.com/event/save-the-date-womens-weekend-theme-women-anointed-for-such-a-time-as-this-esther-414b-3/
END:VEVENT
BEGIN:VEVENT
DTSTART;TZID=America/Detroit:20260519T180000
DTEND;TZID=America/Detroit:20260519T193000
DTSTAMP:20260419T144102
CREATED:20260218T201715Z
LAST-MODIFIED:20260218T201717Z
UID:8020-1779213600-1779219000@newhopechurchwayne.com
SUMMARY:GriefShare-Contact: Jackie Morris-newhopewayne@gmail.com-734-728-2180 Register-griefshare.org/findagroup
DESCRIPTION:
URL:https://newhopechurchwayne.com/event/griefshare-contact-jackie-morris-newhopewaynegmail-com-734-728-2180-register-griefshare-org-findagroup-12/
END:VEVENT
BEGIN:VEVENT
DTSTART;TZID=America/Detroit:20260522T160000
DTEND;TZID=America/Detroit:20260522T180000
DTSTAMP:20260419T144102
CREATED:20260402T182356Z
LAST-MODIFIED:20260402T182400Z
UID:8622-1779465600-1779472800@newhopechurchwayne.com
SUMMARY:Making Plarner Mats / Vests for the unhoused population: contact please call Min. Katrice Sanders @ 313-585-5702
DESCRIPTION:
URL:https://newhopechurchwayne.com/event/making-plarner-mats-vests-for-the-unhoused-population-contact-please-call-min-katrice-sanders-313-585-5702/
END:VEVENT
BEGIN:VEVENT
DTSTART;TZID=America/Detroit:20260526T080000
DTEND;TZID=America/Detroit:20260526T190000
DTSTAMP:20260419T144102
CREATED:20260417T225727Z
LAST-MODIFIED:20260417T225730Z
UID:8840-1779782400-1779822000@newhopechurchwayne.com
SUMMARY:Day Trip to Turkeyville for Play and Lunch
DESCRIPTION:
URL:https://newhopechurchwayne.com/event/day-trip-to-turkeyville-for-play-and-lunch/
END:VEVENT
BEGIN:VEVENT
DTSTART;TZID=America/Detroit:20260526T180000
DTEND;TZID=America/Detroit:20260526T193000
DTSTAMP:20260419T144102
CREATED:20260218T193626Z
LAST-MODIFIED:20260218T201220Z
UID:8011-1779818400-1779823800@newhopechurchwayne.com
SUMMARY:GriefShare-Contact: Jackie Morris-newhopewayne@gmail.com-734-728-2180 Register-griefshare.org/findagroup
DESCRIPTION:
URL:https://newhopechurchwayne.com/event/griefshare-contact-jackie-morris-newhopewaynegmail-com-734-728-2180-register-griefshare-org-findagroup-8/
END:VEVENT
BEGIN:VEVENT
DTSTART;TZID=America/Detroit:20260602T180000
DTEND;TZID=America/Detroit:20260602T193000
DTSTAMP:20260419T144102
CREATED:20260218T202311Z
LAST-MODIFIED:20260218T202314Z
UID:8022-1780423200-1780428600@newhopechurchwayne.com
SUMMARY:GriefShare-Contact: Jackie Morris-newhopewayne@gmail.com-734-728-2180 Register-griefshare.org/findagroup
DESCRIPTION:
URL:https://newhopechurchwayne.com/event/griefshare-contact-jackie-morris-newhopewaynegmail-com-734-728-2180-register-griefshare-org-findagroup-13/
END:VEVENT
BEGIN:VEVENT
DTSTART;TZID=America/Detroit:20260615T173000
DTEND;TZID=America/Detroit:20260615T203000
DTSTAMP:20260419T144102
CREATED:20260130T222515Z
LAST-MODIFIED:20260130T222519Z
UID:7717-1781544600-1781555400@newhopechurchwayne.com
SUMMARY:New Hope Church Office Hours-Wayne Campus
DESCRIPTION:
URL:https://newhopechurchwayne.com/event/new-hope-church-office-hours-wayne-campus-41/
END:VEVENT
BEGIN:VEVENT
DTSTART;TZID=America/Detroit:20260615T173000
DTEND;TZID=America/Detroit:20260615T203000
DTSTAMP:20260419T144102
CREATED:20260223T185720Z
LAST-MODIFIED:20260223T185723Z
UID:8128-1781544600-1781555400@newhopechurchwayne.com
SUMMARY:VACATION BIBLE SCHOOL VBS
DESCRIPTION:
URL:https://newhopechurchwayne.com/event/vacation-bible-school-vbs-4/
END:VEVENT
END:VCALENDAR